Workbook

Sheet Summary Sheet
A1: Laying The Fave Summaries | M1: Enter your lay stake | O1: 2
M3: Total P/L for 2021 | O3: =SUM(E5:E19) -> -70.701135
A4: Month | B4: Number of Races | C4: Winning Favs | D4: % of favs winning | E4: P/L | F4: ="P/L at " &N5 -> P/L at Harlow | G4: ="P/L over "&N6 -> P/L over 415m | H4: ="P/L in Race Class "&N7 -> P/L in Race Class A9 | I4: ="P/L by laying Trap "&N8 -> P/L by laying Trap 3
A5: January | B5: =COUNTA(Jan_21[EVENT_ID]) -> 3983 | C5: =COUNTIF(Jan_21[WIN_OSE],1) -> 1276 | D5: =C5/B5 -> 0.32036154 | E5: =Jan_21[[#Totals],[P/L]] -> -24.639494 | F5: =SUMIFS(Jan_21[P/L],Jan_21[Track],'Summary Sheet'!$N$5) -> -4.050169 | G5: =SUMIFS(Jan_21[P/L],Jan_21[Distance],'Summary Sheet'!$N$6) -> -26.353191 | H5: =SUMIFS(Jan_21[P/L],Jan_21[Race Class],'Summary Sheet'!$N$7) -> 64.629042 | I5: =SUMIFS(Jan_21[P/L],Jan_21[Trap Number],'Summary Sheet'!$N$8) -> 1.2932988 | M5: Track | N5: Harlow | O5: =SUM(F5:F26) -> 144.30757
A6: February | B6: =COUNTA(Feb_21[EVENT_ID]) -> 3349 | C6: =COUNTIF(Feb_21[WIN_OSE],1) -> 1051 | D6: =C6/B6 -> 0.31382502 | E6: =Feb_21[[#Totals],[P/L]] -> 75.787186 | F6: =SUMIFS(Feb_21[P/L],Feb_21[Track],'Summary Sheet'!$N$5) -> 63.99736 | G6: =SUMIFS(Feb_21[P/L],Feb_21[Distance],'Summary Sheet'!$N$6) -> 44.170433 | H6: =SUMIFS(Feb_21[P/L],Feb_21[Race Class],'Summary Sheet'!$N$7) -> 32.716212 | I6: =SUMIFS(Feb_21[P/L],Feb_21[Trap Number],'Summary Sheet'!$N$8) -> 129.27958 | M6: Distance | N6: 415m | O6: =SUM(G5:G20) -> 80.222201
A7: March | B7: =COUNTA(March_21[EVENT_ID]) -> 4246 | C7: =COUNTIF(March_21[WIN_OSE],1) -> 1348 | D7: =C7/B7 -> 0.31747527 | E7: =March_21[[#Totals],[P/L]] -> -121.84883 | F7: =SUMIFS(March_21[P/L],March_21[Track],'Summary Sheet'!$N$5) -> 84.360376 | G7: =SUMIFS(March_21[P/L],March_21[Distance],'Summary Sheet'!$N$6) -> 62.404958 | H7: =SUMIFS(March_21[P/L],March_21[Race Class],'Summary Sheet'!$N$7) -> -45.545293 | I7: =SUMIFS(March_21[P/L],March_21[Trap Number],'Summary Sheet'!$N$8) -> 74.022108 | M7: Race Class | N7: A9 | O7: =SUM(H5:H20) -> 51.799961
A8: April | M8: Trap Number | N8: 3 | O8: =SUM(I5:I18) -> 204.59499
A9: May
A10: June
A11: July
A12: August
A13: September
A14: October
A15: November
A16: December

Sheet List Sheet
A1: Track | C1: Race Cass | E1: Distance | G1: Trap
A2: CentralPark | C2: A1 | E2: 1048m | G2: 1
A3: Cork | C3: A10 | E3: 225m | G3: 2
A4: Crayford | C4: A11 | E4: 238m | G4: 3
A5: Doncaster | C5: A2 | E5: 245m | G5: 4
A6: Harlow | C6: A3 | E6: 261m | G6: 5
A7: Henlow | C7: A4 | E7: 264m | G7: 6
A8: Hove | C8: A5 | E8: 265m
A9: Kinsley | C9: A6 | E9: 268m
A10: Monmouth | C10: A7 | E10: 270m
A11: Newcastle | C11: A8 | E11: 275m
A12: Nottingham | C12: A9 | E12: 277m
A13: Pelawgrange | C13: B1 | E13: 280m
A14: PerryBarr | C14: B2 | E14: 285m
A15: Romford | C15: B3 | E15: 290m
A16: Sheffield | C16: B4 | E16: 305m
A17: Shelbourne | C17: B5 | E17: 320m
A18: Sunderland | C18: B6 | E18: 380m
A19: Swindon | C19: B7 | E19: 388m
... A21: Yarmouth | C21: D2 | E21: 415m
C22: D3 | E22: 428m
C23: D4 | E23: 435m
C24: D5 | E24: 450m
C25: E1 | E25: 460m
C26: E2 | E26: 462m
C27: H1 | E27: 476m
C28: H2 | E28: 480m
C29: HC | E29: 483m
C30: IT | E30: 500m
C31: OR | E31: 503m
C32: P6 | E32: 526m
C33: R10 | E33: 540m
... C41: S8 | E41: 650m
E42: 659m
E43: 660m
E44: 680m
E45: 684m
E46: 686m
E47: 695m
E48: 712m
...

Sheet January 2021
A1: EVENT_ID | B1: MENU_HINT.1 | C1: Track | D1: MENU_HINT.2.2.2 | E1: Race Class | F1: Distance | G1: Race Date | H1: Race Time | I1: Dog ID | J1: Trap Number | K1: Dog Name | L1: WIN_OSE | M1: BSP | N1: Amount traded before the off | O1: P/L
A2: 177482862 | B2: TRP | C2: Kinsley | D2: 1stJan | E2: A4 | F2: 462m | G2: 44197 | H2: 0.4625 | I2: 38021946 | J2: 3 | K2: Carrigeen Honey | L2: 0 | M2: 3.997206 | N2: 4400.1 | O2: =IF(Jan_21[[#This Row],[WIN_OSE]]=0,('Summary Sheet'!$O$1)-('Summary Sheet'!$O$1*2%),-'Summary Sheet'!$O$1*(Jan_21[[#This Row],[BSP]]-1)) -> 1.96
A3: 177482864 | B3: TRP | C3: Kinsley | D3: 1stJan | E3: D3 | F3: 268m | G3: 44197 | H3: 0.47291667 | I3: 36424893 | J3: 1 | K3: Miroad Wishes | L3: 0 | M3: 4.1346597 | N3: 9228.46 | O3: =IF(Jan_21[[#This Row],[WIN_OSE]]=0,('Summary Sheet'!$O$1)-('Summary Sheet'!$O$1*2%),-'Summary Sheet'!$O$1*(Jan_21[[#This Row],[BSP]]-1)) -> 1.96
A4: 177482866 | B4: TRP | C4: Kinsley | D4: 1stJan | E4: A6 | F4: 462m | G4: 44197 | H4: 0.48333333 | I4: 15824584 | J4: 1 | K4: Russanda Ricky | L4: 0 | M4: 3.4 | N4: 13671.9 | O4: =IF(Jan_21[[#This Row],[WIN_OSE]]=0,('Summary Sheet'!$O$1)-('Summary Sheet'!$O$1*2%),-'Summary Sheet'!$O$1*(Jan_21[[#This Row],[BSP]]-1)) -> 1.96
A5: 177482868 | B5: TRP | C5: Kinsley | D5: 1stJan | E5: A5 | F5: 462m | G5: 44197 | H5: 0.49375 | I5: 18893154 | J5: 6 | K5: Ask Andy | L5: 0 | M5: 2.7 | N5: 16733.1 | O5: =IF(Jan_21[[#This Row],[WIN_OSE]]=0,('Summary Sheet'!$O$1)-('Summary Sheet'!$O$1*2%),-'Summary Sheet'!$O$1*(Jan_21[[#This Row],[BSP]]-1)) -> 1.96
A6: 177482870 | B6: TRP | C6: Kinsley | D6: 1stJan | E6: A3 | F6: 462m | G6: 44197 | H6: 0.50416667 | I6: 28633695 | J6: 6 | K6: Ur My Ange | L6: 0 | M6: 4.0984422 | N6: 4838.02 | O6: =IF(Jan_21[[#This Row],[WIN_OSE]]=0,('Summary Sheet'!$O$1)-('Summary Sheet'!$O$1*2%),-'Summary Sheet'!$O$1*(Jan_21[[#This Row],[BSP]]-1)) -> 1.96
A7: 177482872 | B7: TRP | C7: Kinsley | D7: 1stJan | E7: HC | F7: 462m | G7: 44197 | H7: 0.51458333 | I7: 36787551 | J7: 6 | K7: Rockmount Rocco | L7: 0 | M7: 4.1465639 | N7: 7657.14 | O7: =IF(Jan_21[[#This Row],[WIN_OSE]]=0,('Summary Sheet'!$O$1)-('Summary Sheet'!$O$1*2%),-'Summary Sheet'!$O$1*(Jan_21[[#This Row],[BSP]]-1)) -> 1.96
A8: 177482874 | B8: TRP | C8: Kinsley | D8: 1stJan | E8: A7 | F8: 462m | G8: 44197 | H8: 0.525 | I8: 36574792 | J8: 5 | K8: Princess | L8: 1 | M8: 3.4546245 | N8: 10791.88 | O8: =IF(Jan_21[[#This Row],[WIN_OSE]]=0,('Summary Sheet'!$O$1)-('Summary Sheet'!$O$1*2%),-'Summary Sheet'!$O$1*(Jan_21[[#This Row],[BSP]]-1)) -> -4.9092491
A9: 177482876 | B9: TRP | C9: Kinsley | D9: 1stJan | E9: D4 | F9: 268m | G9: 44197 | H9: 0.53541667 | I9: 22510088 | J9: 1 | K9: Keseys Foy | L9: 1 | M9: 3.7021106 | N9: 8757.82 | O9: =IF(Jan_21[[#This Row],[WIN_OSE]]=0,('Summary Sheet'!$O$1)-('Summary Sheet'!$O$1*2%),-'Summary Sheet'!$O$1*(Jan_21[[#This Row],[BSP]]-1)) -> -5.4042213
A10: 177482878 | B10: TRP | C10: Kinsley | D10: 1stJan | E10: A3 | F10: 462m | G10: 44197 | H10: 0.54583333 | I10: 28633749 | J10: 6 | K10: Freedom Shandy | L10: 0 | M10: 4.102264 | N10: 9402.08 | O10: =IF(Jan_21[[#This Row],[WIN_OSE]]=0,('Summary Sheet'!$O$1)-('Summary Sheet'!$O$1*2%),-'Summary Sheet'!$O$1*(Jan_21[[#This Row],[BSP]]-1)) -> 1.96
A11: 177482880 | B11: TRP | C11: Kinsley | D11: 1stJan | E11: A6 | F11: 462m | G11: 44197 | H11: 0.55625 | I11: 36787484 | J11: 5 | K11: Megz Mohican | L11: 0 | M11: 4.6455985 | N11: 3569.7 | O11: =IF(Jan_21[[#This Row],[WIN_OSE]]=0,('Summary Sheet'!$O$1)-('Summary Sheet'!$O$1*2%),-'Summary Sheet'!$O$1*(Jan_21[[#This Row],[BSP]]-1)) -> 1.96
A12: 177482882 | B12: TRP | C12: Kinsley | D12: 1stJan | E12: D2 | F12: 268m | G12: 44197 | H12: 0.56666667 | I12: 28794341 | J12: 5 | K12: Great Buzz | L12: 0 | M12: 2.9829624 | N12: 8762.44 | O12: =IF(Jan_21[[#This Row],[WIN_OSE]]=0,('Summary Sheet'!$O$1)-('Summary Sheet'!$O$1*2%),-'Summary Sheet'!$O$1*(Jan_21[[#This Row],[BSP]]-1)) -> 1.96
A13: 177482884 | B13: TRP | C13: Kinsley | D13: 1stJan | E13: A5 | F13: 462m | G13: 44197 | H13: 0.57708333 | I13: 36787535 | J13: 2 | K13: Jacobs We | L13: 0 | M13: 4.161895 | N13: 3786.26 | O13: =IF(Jan_21[[#This Row],[WIN_OSE]]=0,('Summary Sheet'!$O$1)-('Summary Sheet'!$O$1*2%),-'Summary Sheet'!$O$1*(Jan_21[[#This Row],[BSP]]-1)) -> 1.96
... A2994: 178303920 | B2994: SIS | C2994: Romford | D2994: d23rdJan | E2994: S2 | F2994: 575m | G2994: 44219 | H2994: 0.89027778 | I2994: 37389402 | J2994: 1 | K2994: Madabout Briony | L2994: 1 | M2994: 3 | N2994: 12674.88 | O2994: =IF(Jan_21[[#This Row],[WIN_OSE]]=0,('Summary Sheet'!$O$1)-('Summary Sheet'!$O$1*2%),-'Summary Sheet'!$O$1*(Jan_21[[#This Row],[BSP]]-1)) -> -4
A2995: 178331211 | E2995: R10 | F2995: 388m | G2995: 44221 | H2995: 0.45694444 | I2995: 36592905 | J2995: 1 | K2995: Antique Ai | L2995: 0 | M2995: 3.8480346 | N2995: 6119.68 | O2995: =IF(Jan_21[[#This Row],[WIN_OSE]]=0,('Summary Sheet'!$O$1)-('Summary Sheet'!$O$1*2%),-'Summary Sheet'!$O$1*(Jan_21[[#This Row],[BSP]]-1)) -> 1.96
A2996: 178344791 | B2996: SIS | C2996: Doncaster | D2996: 24thJan | E2996: B4 | F2996: 450m | G2996: 44220 | H2996: 0.44861111 | I2996: 36800356 | J2996: 4 | K2996: Mustang Benjy | L2996: 0 | M2996: 4.5492973 | N2996: 2510.14 | O2996: =IF(Jan_21[[#This Row],[WIN_OSE]]=0,('Summary Sheet'!$O$1)-('Summary Sheet'!$O$1*2%),-'Summary Sheet'!$O$1*(Jan_21[[#This Row],[BSP]]-1)) -> 1.96
A2997: 178344793 | B2997: SIS | C2997: Doncaster | D2997: 24thJan | E2997: D2 | F2997: 275m | G2997: 44220 | H2997: 0.45902778 | I2997: 37413562 | J2997: 2 | K2997: Courtough Betty | L2997: 2 | M2997: 2.9001512 | N2997: 3237.08 | O2997: =IF(Jan_21[[#This Row],[WIN_OSE]]=0,('Summary Sheet'!$O$1)-('Summary Sheet'!$O$1*2%),-'Summary Sheet'!$O$1*(Jan_21[[#This Row],[BSP]]-1)) -> -3.8003024
A2998: 178344795 | B2998: SIS | C2998: Doncaster | D2998: 24thJan | E2998: B2 | F2998: 450m | G2998: 44220 | H2998: 0.46944444 | I2998: 6779986 | J2998: 2 | K2998: Rafferty | L2998: 0 | M2998: 3.1 | N2998: 2297.44 | O2998: =IF(Jan_21[[#This Row],[WIN_OSE]]=0,('Summary Sheet'!$O$1)-('Summary Sheet'!$O$1*2%),-'Summary Sheet'!$O$1*(Jan_21[[#This Row],[BSP]]-1)) -> 1.96
A2999: 178344797 | B2999: SIS | C2999: Doncaster | D2999: 24thJan | E2999: A2 | F2999: 483m | G2999: 44220 | H2999: 0.47986111 | I2999: 28042699 | J2999: 3 | K2999: Baymac Sirocco | L2999: 0 | M2999: 3.2166438 | N2999: 2003.78 | O2999: =IF(Jan_21[[#This Row],[WIN_OSE]]=0,('Summary Sheet'!$O$1)-('Summary Sheet'!$O$1*2%),-'Summary Sheet'!$O$1*(Jan_21[[#This Row],[BSP]]-1)) -> 1.96
A3000: 178344799 | B3000: SIS | C3000: Doncaster | D3000: 24thJan | E3000: A2 | F3000: 483m | G3000: 44220 | H3000: 0.49027778 | I3000: 36247750 | J3000: 2 | K3000: Paradise Mciroy | L3000: 0 | M3000: 2.9051848 | N3000: 2816.08 | O3000: =IF(Jan_21[[#This Row],[WIN_OSE]]=0,('Summary Sheet'!$O$1)-('Summary Sheet'!$O$1*2%),-'Summary Sheet'!$O$1*(Jan_21[[#This Row],[BSP]]-1)) -> 1.96
A3001: 178344801 | B3001: SIS | C3001: Doncaster | D3001: 24thJan | E3001: D3 | F3001: 275m | G3001: 44220 | H3001: 0.50069444 | I3001: 36534610 | J3001: 1 | K3001: Microft Mervin | L3001: 0 | M3001: 3.671252 | N3001: 2632.2 | O3001: =IF(Jan_21[[#This Row],[WIN_OSE]]=0,('Summary Sheet'!$O$1)-('Summary Sheet'!$O$1*2%),-'Summary Sheet'!$O$1*(Jan_21[[#This Row],[BSP]]-1)) -> 1.96
A3002: 178344803 | B3002: SIS | C3002: Doncaster | D3002: 24thJan | E3002: B5 | F3002: 450m | G3002: 44220 | H3002: 0.51111111 | I3002: 38218140 | J3002: 1 | K3002: Swift ampoon | L3002: 1 | M3002: 2.5634177 | N3002: 3258.5 | O3002: =IF(Jan_21[[#This Row],[WIN_OSE]]=0,('Summary Sheet'!$O$1)-('Summary Sheet'!$O$1*2%),-'Summary Sheet'!$O$1*(Jan_21[[#This Row],[BSP]]-1)) -> -3.1268354
A3003: 178344805 | B3003: SIS | C3003: Doncaster | D3003: 24thJan | E3003: B5 | F3003: 450m | G3003: 44220 | H3003: 0.52152778 | I3003: 24909708 | J3003: 2 | K3003: Word Apart | L3003: 1 | M3003: 2.492648 | N3003: 5592.18 | O3003: =IF(Jan_21[[#This Row],[WIN_OSE]]=0,('Summary Sheet'!$O$1)-('Summary Sheet'!$O$1*2%),-'Summary Sheet'!$O$1*(Jan_21[[#This Row],[BSP]]-1)) -> -2.9852959
A3004: 178344807 | B3004: SIS | C3004: Doncaster | D3004: 24thJan | E3004: D4 | F3004: 275m | G3004: 44220 | H3004: 0.53194444 | I3004: 36003699 | J3004: 2 | K3004: Pennys Draiocht | L3004: 0 | M3004: 4.6 | N3004: 1496.08 | O3004: =IF(Jan_21[[#This Row],[WIN_OSE]]=0,('Summary Sheet'!$O$1)-('Summary Sheet'!$O$1*2%),-'Summary Sheet'!$O$1*(Jan_21[[#This Row],[BSP]]-1)) -> 1.96
A3005: 178344809 | B3005: SIS | C3005: Doncaster | D3005: 24thJan | E3005: D3 | F3005: 275m | G3005: 44220 | H3005: 0.54305556 | I3005: 28232366 | J3005: 1 | K3005: Coatown Becca | L3005: 1 | M3005: 2.9883867 | N3005: 3111.74 | O3005: =IF(Jan_21[[#This Row],[WIN_OSE]]=0,('Summary Sheet'!$O$1)-('Summary Sheet'!$O$1*2%),-'Summary Sheet'!$O$1*(Jan_21[[#This Row],[BSP]]-1)) -> -3.9767735
A3006: 178344811 | B3006: SIS | C3006: Doncaster | D3006: 24thJan | E3006: B4 | F3006: 450m | G3006: 44220 | H3006: 0.55347222 | I3006: 36492945 | J3006: 1 | K3006: Racketha Izzy | L3006: 1 | M3006: 3.102873 | N3006: 4561.5 | O3006: =IF(Jan_21[[#This Row],[WIN_OSE]]=0,('Summary Sheet'!$O$1)-('Summary Sheet'!$O$1*2%),-'Summary Sheet'!$O$1*(Jan_21[[#This Row],[BSP]]-1)) -> -4.205746
A3007: 178344813 | B3007: SIS | C3007: Doncaster | D3007: 24thJan | E3007: B3 | F3007: 450m | G3007: 44220 | H3007: 0.56458333 | I3007: 28676286 | J3007: 6 | K3007: Gaise Ranger | L3007: 1 | M3007: 2.5447495 | N3007: 3591.22 | O3007: =IF(Jan_21[[#This Row],[WIN_OSE]]=0,('Summary Sheet'!$O$1)-('Summary Sheet'!$O$1*2%),-'Summary Sheet'!$O$1*(Jan_21[[#This Row],[BSP]]-1)) -> -3.0894989
... A3984: 178660563 | B3984: RPGTV | C3984: Swindon | D3984: 31stJan | E3984: A2 | F3984: 476m | G3984: 44227 | H3984: 0.88611111 | I3984: 29555073 | J3984: 4 | K3984: Shady Marvin | L3984: 0 | M3984: 3.45 | N3984: 9945.42 | O3984: =IF(Jan_21[[#This Row],[WIN_OSE]]=0,('Summary Sheet'!$O$1)-('Summary Sheet'!$O$1*2%),-'Summary Sheet'!$O$1*(Jan_21[[#This Row],[BSP]]-1)) -> 1.96
O3985: =SUM(Jan_21[P/L]) -> -24.639494

Sheet February 2021
A1: EVENT_ID | B1: MENU_HINT.1 | C1: Track | D1: MENU_HINT.2.2.2 | E1: Race Class | F1: Distance | G1: Race Date | H1: Race Time | I1: Trap Number | J1: Dog Name | K1: WIN_OSE | L1: BSP | M1: Amount traded before the off | N1: P/L
A2: 178703655 | B2: TRP | C2: PerryBarr | D2: 1st Feb | E2: A2 | F2: 480m | G2: 44228 | H2: 0.4625 | I2: 5 | J2: Pennys Arbutus | K2: 0 | L2: 2.38 | M2: 1113.66 | N2: =IF(Feb_21[[#This Row],[WIN_OSE]]=0,('Summary Sheet'!$O$1)-('Summary Sheet'!$O$1*2%),-'Summary Sheet'!$O$1*(Feb_21[[#This Row],[BSP]]-1)) -> 1.96
A3: 178703657 | B3: TRP | C3: PerryBarr | D3: 1st Feb | E3: D2 | F3: 275m | G3: 44228 | H3: 0.47291667 | I3: 4 | J3: Hyde Park Conan | K3: 0 | L3: 3.4 | M3: 6592.26 | N3: =IF(Feb_21[[#This Row],[WIN_OSE]]=0,('Summary Sheet'!$O$1)-('Summary Sheet'!$O$1*2%),-'Summary Sheet'!$O$1*(Feb_21[[#This Row],[BSP]]-1)) -> 1.96
A4: 178703659 | B4: TRP | C4: PerryBarr | D4: 1st Feb | E4: A7 | F4: 480m | G4: 44228 | H4: 0.48333333 | I4: 6 | J4: Shortwood Lexi | K4: 0 | L4: 3.3170153 | M4: 8910.44 | N4: =IF(Feb_21[[#This Row],[WIN_OSE]]=0,('Summary Sheet'!$O$1)-('Summary Sheet'!$O$1*2%),-'Summary Sheet'!$O$1*(Feb_21[[#This Row],[BSP]]-1)) -> 1.96
A5: 178703661 | B5: TRP | C5: PerryBarr | D5: 1st Feb | E5: A6 | F5: 480m | G5: 44228 | H5: 0.49375 | I5: 3 | J5: Aghadown Cheryl | K5: 0 | L5: 1.92 | M5: 25166.96 | N5: =IF(Feb_21[[#This Row],[WIN_OSE]]=0,('Summary Sheet'!$O$1)-('Summary Sheet'!$O$1*2%),-'Summary Sheet'!$O$1*(Feb_21[[#This Row],[BSP]]-1)) -> 1.96
A6: 178703663 | B6: TRP | C6: PerryBarr | D6: 1st Feb | E6: D3 | F6: 275m | G6: 44228 | H6: 0.50416667 | I6: 1 | J6: Our Mate Vic | K6: 0 | L6: 3.9 | M6: 8550.7 | N6: =IF(Feb_21[[#This Row],[WIN_OSE]]=0,('Summary Sheet'!$O$1)-('Summary Sheet'!$O$1*2%),-'Summary Sheet'!$O$1*(Feb_21[[#This Row],[BSP]]-1)) -> 1.96
A7: 178703665 | B7: TRP | C7: PerryBarr | D7: 1st Feb | E7: A8 | F7: 480m | G7: 44228 | H7: 0.51458333 | I7: 4 | J7: Black Bob | K7: 0 | L7: 2.8978746 | M7: 19939.52 | N7: =IF(Feb_21[[#This Row],[WIN_OSE]]=0,('Summary Sheet'!$O$1)-('Summary Sheet'!$O$1*2%),-'Summary Sheet'!$O$1*(Feb_21[[#This Row],[BSP]]-1)) -> 1.96
A8: 178703667 | B8: TRP | C8: PerryBarr | D8: 1st Feb | E8: A6 | F8: 480m | G8: 44228 | H8: 0.525 | I8: 5 | J8: Aintree Phoenix | K8: 1 | L8: 3.75 | M8: 17857.98 | N8: =IF(Feb_21[[#This Row],[WIN_OSE]]=0,('Summary Sheet'!$O$1)-('Summary Sheet'!$O$1*2%),-'Summary Sheet'!$O$1*(Feb_21[[#This Row],[BSP]]-1)) -> -5.5
A9: 178703669 | B9: TRP | C9: PerryBarr | D9: 1st Feb | E9: A5 | F9: 480m | G9: 44228 | H9: 0.53541667 | I9: 4 | J9: Affane Buzz | K9: 1 | L9: 2.74 | M9: 12392.82 | N9: =IF(Feb_21[[#This Row],[WIN_OSE]]=0,('Summary Sheet'!$O$1)-('Summary Sheet'!$O$1*2%),-'Summary Sheet'!$O$1*(Feb_21[[#This Row],[BSP]]-1)) -> -3.48
A10: 178703671 | B10: TRP | C10: PerryBarr | D10: 1st Feb | E10: D3 | F10: 275m | G10: 44228 | H10: 0.54583333 | I10: 3 | J10: Affane Blue | K10: 1 | L10: 2.3606018 | M10: 21769.98 | N10: =IF(Feb_21[[#This Row],[WIN_OSE]]=0,('Summary Sheet'!$O$1)-('Summary Sheet'!$O$1*2%),-'Summary Sheet'!$O$1*(Feb_21[[#This Row],[BSP]]-1)) -> -2.7212035
A11: 178703673 | B11: TRP | C11: PerryBarr | D11: 1st Feb | E11: A8 | F11: 480m | G11: 44228 | H11: 0.55625 | I11: 1 | J11: Lielow Lil | K11: 1 | L11: 2.3795127 | M11: 16917.9 | N11: =IF(Feb_21[[#This Row],[WIN_OSE]]=0,('Summary Sheet'!$O$1)-('Summary Sheet'!$O$1*2%),-'Summary Sheet'!$O$1*(Feb_21[[#This Row],[BSP]]-1)) -> -2.7590254
A12: 178703675 | B12: TRP | C12: PerryBarr | D12: 1st Feb | E12: A9 | F12: 480m | G12: 44228 | H12: 0.56666667 | I12: 5 | J12: Tirley Bonnygirl | K12: 0 | L12: 2.6589125 | M12: 9839.66 | N12: =IF(Feb_21[[#This Row],[WIN_OSE]]=0,('Summary Sheet'!$O$1)-('Summary Sheet'!$O$1*2%),-'Summary Sheet'!$O$1*(Feb_21[[#This Row],[BSP]]-1)) -> 1.96
A13: 178703677 | B13: TRP | C13: PerryBarr | D13: 1st Feb | E13: D4 | F13: 275m | G13: 44228 | H13: 0.57708333 | I13: 1 | J13: Gringos Dancer | K13: 0 | L13: 3.1 | M13: 10023.82 | N13: =IF(Feb_21[[#This Row],[WIN_OSE]]=0,('Summary Sheet'!$O$1)-('Summary Sheet'!$O$1*2%),-'Summary Sheet'!$O$1*(Feb_21[[#This Row],[BSP]]-1)) -> 1.96
... A3350: 179858997 | B3350: RPGTV | C3350: Henlow | D3350: 28th Feb | E3350: D2 | F3350: 277m | G3350: 44255 | H3350: 0.8875 | I3350: 1 | J3350: Brannew Sonny | K3350: 1 | L3350: 3.15 | M3350: 17115.46 | N3350: =IF(Feb_21[[#This Row],[WIN_OSE]]=0,('Summary Sheet'!$O$1)-('Summary Sheet'!$O$1*2%),-'Summary Sheet'!$O$1*(Feb_21[[#This Row],[BSP]]-1)) -> -4.3
N3351: =SUM(Feb_21[P/L]) -> 75.787186

Sheet March 2021
A1: EVENT_ID | B1: MENU_HINT.1 | C1: Track | D1: MENU_HINT.2.2.2 | E1: Race Class | F1: Distance | G1: Date | H1: Race Time | I1: Dog id | J1: Trap Number | K1: Dog Name | L1: WIN_OSE | M1: BSP | N1: Amount traded before the off | O1: P/L
A2: 179924504 | B2: TRP | C2: PerryBarr | D2: 1st Mar | E2: A4 | F2: 480m | G2: 44256 | H2: 0.4625 | I2: 36799651 | J2: 3 | K2: Camp Nora | L2: 0 | M2: 2.68 | N2: 12596.02 | O2: =IF(March_21[[#This Row],[WIN_OSE]]=0,('Summary Sheet'!$O$1)-('Summary Sheet'!$O$1*2%),-'Summary Sheet'!$O$1*(March_21[[#This Row],[BSP]]-1)) -> 1.96
A3: 179924506 | B3: TRP | C3: PerryBarr | D3: 1st Mar | E3: D3 | F3: 275m | G3: 44256 | H3: 0.47291667 | I3: 24979219 | J3: 5 | K3: Seattle Lord | L3: 0 | M3: 2.903078 | N3: 10186.42 | O3: =IF(March_21[[#This Row],[WIN_OSE]]=0,('Summary Sheet'!$O$1)-('Summary Sheet'!$O$1*2%),-'Summary Sheet'!$O$1*(March_21[[#This Row],[BSP]]-1)) -> 1.96
A4: 179924508 | B4: TRP | C4: PerryBarr | D4: 1st Mar | E4: A7 | F4: 480m | G4: 44256 | H4: 0.48333333 | I4: 37214095 | J4: 2 | K4: Dirt Bike | L4: 1 | M4: 2.9950324 | N4: 15706.36 | O4: =IF(March_21[[#This Row],[WIN_OSE]]=0,('Summary Sheet'!$O$1)-('Summary Sheet'!$O$1*2%),-'Summary Sheet'!$O$1*(March_21[[#This Row],[BSP]]-1)) -> -3.9900648
A5: 179924510 | B5: TRP | C5: PerryBarr | D5: 1st Mar | E5: D2 | F5: 275m | G5: 44256 | H5: 0.49375 | I5: 36160070 | J5: 6 | K5: Madabout Max | L5: 1 | M5: 3.2352028 | N5: 11021.68 | O5: =IF(March_21[[#This Row],[WIN_OSE]]=0,('Summary Sheet'!$O$1)-('Summary Sheet'!$O$1*2%),-'Summary Sheet'!$O$1*(March_21[[#This Row],[BSP]]-1)) -> -4.4704056
A6: 179924512 | B6: TRP | C6: PerryBarr | D6: 1st Mar | E6: A3 | F6: 480m | G6: 44256 | H6: 0.50416667 | I6: 28694362 | J6: 5 | K6: Sporting Pacino | L6: 0 | M6: 4.3 | N6: 5281.1 | O6: =IF(March_21[[#This Row],[WIN_OSE]]=0,('Summary Sheet'!$O$1)-('Summary Sheet'!$O$1*2%),-'Summary Sheet'!$O$1*(March_21[[#This Row],[BSP]]-1)) -> 1.96
A7: 179924514 | B7: TRP | C7: PerryBarr | D7: 1st Mar | E7: A8 | F7: 480m | G7: 44256 | H7: 0.51458333 | I7: 38457867 | J7: 5 | K7: Faydas Light | L7: 0 | M7: 2.5501283 | N7: 19539.52 | O7: =IF(March_21[[#This Row],[WIN_OSE]]=0,('Summary Sheet'!$O$1)-('Summary Sheet'!$O$1*2%),-'Summary Sheet'!$O$1*(March_21[[#This Row],[BSP]]-1)) -> 1.96
A8: 179924516 | B8: TRP | C8: PerryBarr | D8: 1st Mar | E8: A6 | F8: 480m | G8: 44256 | H8: 0.525 | I8: 26328726 | J8: 3 | K8: Money Spree | L8: 1 | M8: 2.54 | N8: 21412.02 | O8: =IF(March_21[[#This Row],[WIN_OSE]]=0,('Summary Sheet'!$O$1)-('Summary Sheet'!$O$1*2%),-'Summary Sheet'!$O$1*(March_21[[#This Row],[BSP]]-1)) -> -3.08
A9: 179924518 | B9: TRP | C9: PerryBarr | D9: 1st Mar | E9: A9 | F9: 480m | G9: 44256 | H9: 0.53541667 | I9: 38260009 | J9: 2 | K9: Abigails Amigo | L9: 0 | M9: 3.9824032 | N9: 9589.52 | O9: =IF(March_21[[#This Row],[WIN_OSE]]=0,('Summary Sheet'!$O$1)-('Summary Sheet'!$O$1*2%),-'Summary Sheet'!$O$1*(March_21[[#This Row],[BSP]]-1)) -> 1.96
A10: 179924520 | B10: TRP | C10: PerryBarr | D10: 1st Mar | E10: A5 | F10: 480m | G10: 44256 | H10: 0.54583333 | I10: 21942660 | J10: 4 | K10: North Dakota | L10: 0 | M10: 2.4169664 | N10: 13686.58 | O10: =IF(March_21[[#This Row],[WIN_OSE]]=0,('Summary Sheet'!$O$1)-('Summary Sheet'!$O$1*2%),-'Summary Sheet'!$O$1*(March_21[[#This Row],[BSP]]-1)) -> 1.96
A11: 179924522 | B11: TRP | C11: PerryBarr | D11: 1st Mar | E11: A8 | F11: 480m | G11: 44256 | H11: 0.55625 | I11: 26937727 | J11: 3 | K11: Wiggleitgiggleit | L11: 0 | M11: 3.6738595 | N11: 10092.84 | O11: =IF(March_21[[#This Row],[WIN_OSE]]=0,('Summary Sheet'!$O$1)-('Summary Sheet'!$O$1*2%),-'Summary Sheet'!$O$1*(March_21[[#This Row],[BSP]]-1)) -> 1.96
A12: 179924524 | B12: TRP | C12: PerryBarr | D12: 1st Mar | E12: D4 | F12: 275m | G12: 44256 | H12: 0.56666667 | I12: 37345268 | J12: 2 | K12: Blossom Tree | L12: 0 | M12: 3.8234144 | N12: 7590.2 | O12: =IF(March_21[[#This Row],[WIN_OSE]]=0,('Summary Sheet'!$O$1)-('Summary Sheet'!$O$1*2%),-'Summary Sheet'!$O$1*(March_21[[#This Row],[BSP]]-1)) -> 1.96
A13: 179924526 | B13: TRP | C13: PerryBarr | D13: 1st Mar | E13: D3 | F13: 275m | G13: 44256 | H13: 0.57708333 | I13: 22197785 | J13: 6 | K13: Ballymac Skelper | L13: 0 | M13: 4.3 | N13: 3661 | O13: =IF(March_21[[#This Row],[WIN_OSE]]=0,('Summary Sheet'!$O$1)-('Summary Sheet'!$O$1*2%),-'Summary Sheet'!$O$1*(March_21[[#This Row],[BSP]]-1)) -> 1.96
... A1798: 180494395 | B1798: SIS | C1798: Romford | D1798: 13th Mar | E1798: S1 | F1798: 575m | G1798: 44268 | H1798: 0.89027778 | I1798: 28743341 | J1798: 2 | K1798: Kingdom Star | L1798: 1 | M1798: 3.55 | N1798: 10332.76 | O1798: =IF(March_21[[#This Row],[WIN_OSE]]=0,('Summary Sheet'!$O$1)-('Summary Sheet'!$O$1*2%),-'Summary Sheet'!$O$1*(March_21[[#This Row],[BSP]]-1)) -> -5.1
A1799: 180500418 | B1799: RPGTV | C1799: Shelbourne | D1799: 13th Mar | E1799: OR | F1799: 503m | G1799: 44268 | H1799: 0.77847222 | I1799: 38798046 | J1799: 1 | M1799: 1 | N1799: 40 | O1799: =IF(March_21[[#This Row],[WIN_OSE]]=0,('Summary Sheet'!$O$1)-('Summary Sheet'!$O$1*2%),-'Summary Sheet'!$O$1*(March_21[[#This Row],[BSP]]-1)) -> 1.96
A1800: 180500420 | B1800: RPGTV | C1800: Shelbourne | D1800: 13th Mar | E1800: OR | F1800: 480m | G1800: 44268 | H1800: 0.78888889 | I1800: 38798056 | J1800: 1 | K1800: Run Bolt | L1800: 0 | M1800: 1.9735556 | N1800: 25957.72 | O1800: =IF(March_21[[#This Row],[WIN_OSE]]=0,('Summary Sheet'!$O$1)-('Summary Sheet'!$O$1*2%),-'Summary Sheet'!$O$1*(March_21[[#This Row],[BSP]]-1)) -> 1.96
A1801: 180500422 | B1801: RPGTV | C1801: Shelbourne | D1801: 13th Mar | E1801: OR | F1801: 480m | G1801: 44268 | H1801: 0.80277778 | I1801: 38798080 | J1801: 6 | K1801: Slippery Diva | L1801: 0 | M1801: 3.1 | N1801: 12512.42 | O1801: =IF(March_21[[#This Row],[WIN_OSE]]=0,('Summary Sheet'!$O$1)-('Summary Sheet'!$O$1*2%),-'Summary Sheet'!$O$1*(March_21[[#This Row],[BSP]]-1)) -> 1.96
A1802: 180500424 | B1802: RPGTV | C1802: Shelbourne | D1802: 13th Mar | E1802: A1 | F1802: 526m | G1802: 44268 | H1802: 0.81527778 | I1802: 3883350 | J1802: 4 | K1802: Sizzler | L1802: 0 | M1802: 3.75 | N1802: 10954.22 | O1802: =IF(March_21[[#This Row],[WIN_OSE]]=0,('Summary Sheet'!$O$1)-('Summary Sheet'!$O$1*2%),-'Summary Sheet'!$O$1*(March_21[[#This Row],[BSP]]-1)) -> 1.96
A1803: 180500426 | B1803: RPGTV | C1803: Shelbourne | D1803: 13th Mar | E1803: OR | F1803: 320m | G1803: 44268 | H1803: 0.82638889 | I1803: 38798092 | J1803: 1 | K1803: Brodys Magic | L1803: 1 | M1803: 1.35 | N1803: 29549.16 | O1803: =IF(March_21[[#This Row],[WIN_OSE]]=0,('Summary Sheet'!$O$1)-('Summary Sheet'!$O$1*2%),-'Summary Sheet'!$O$1*(March_21[[#This Row],[BSP]]-1)) -> -0.7
A1804: 180500428 | B1804: RPGTV | C1804: Shelbourne | D1804: 13th Mar | E1804: OR | F1804: 480m | G1804: 44268 | H1804: 0.84027778 | I1804: 38798144 | J1804: 3 | K1804: Deadly Destroyer | L1804: 1 | M1804: 3.3276949 | N1804: 9763.74 | O1804: =IF(March_21[[#This Row],[WIN_OSE]]=0,('Summary Sheet'!$O$1)-('Summary Sheet'!$O$1*2%),-'Summary Sheet'!$O$1*(March_21[[#This Row],[BSP]]-1)) -> -4.6553898
A1805: 180500430 | B1805: RPGTV | C1805: Shelbourne | D1805: 13th Mar | E1805: OR | F1805: 480m | G1805: 44268 | H1805: 0.85416667 | I1805: 37309010 | J1805: 6 | K1805: Miss Joss | L1805: 0 | M1805: 2.6007928 | N1805: 20118.48 | O1805: =IF(March_21[[#This Row],[WIN_OSE]]=0,('Summary Sheet'!$O$1)-('Summary Sheet'!$O$1*2%),-'Summary Sheet'!$O$1*(March_21[[#This Row],[BSP]]-1)) -> 1.96
A1806: 180500602 | B1806: RPGTV | C1806: Shelbourne | D1806: 13th Mar | E1806: OR | F1806: 503m | G1806: 44268 | H1806: 0.86805556 | I1806: 36261346 | J1806: 1 | K1806: Newinn Session | L1806: 0 | M1806: 2.42 | N1806: 27827.44 | O1806: =IF(March_21[[#This Row],[WIN_OSE]]=0,('Summary Sheet'!$O$1)-('Summary Sheet'!$O$1*2%),-'Summary Sheet'!$O$1*(March_21[[#This Row],[BSP]]-1)) -> 1.96
A1807: 180500774 | B1807: RPGTV | C1807: Shelbourne | D1807: 13th Mar | E1807: OR | F1807: 686m | G1807: 44268 | H1807: 0.88125 | I1807: 35553322 | J1807: 3 | K1807: Ballymac Wisdom | L1807: 1 | M1807: 2.38 | N1807: 30070.56 | O1807: =IF(March_21[[#This Row],[WIN_OSE]]=0,('Summary Sheet'!$O$1)-('Summary Sheet'!$O$1*2%),-'Summary Sheet'!$O$1*(March_21[[#This Row],[BSP]]-1)) -> -2.76
A1808: 180500776 | B1808: RPGTV | C1808: Shelbourne | D1808: 13th Mar | E1808: OR | F1808: 480m | G1808: 44268 | H1808: 0.89166667 | I1808: 38798193 | J1808: 1 | K1808: Runninta Seeya | L1808: 0 | M1808: 4.1 | N1808: 12735.6 | O1808: =IF(March_21[[#This Row],[WIN_OSE]]=0,('Summary Sheet'!$O$1)-('Summary Sheet'!$O$1*2%),-'Summary Sheet'!$O$1*(March_21[[#This Row],[BSP]]-1)) -> 1.96
A1809: 180500778 | B1809: RPGTV | C1809: Shelbourne | D1809: 13th Mar | E1809: OR | F1809: 503m | G1809: 44268 | H1809: 0.90138889 | I1809: 38798204 | J1809: 3 | K1809: Billys Diva | L1809: 0 | M1809: 3.3 | N1809: 26981.9 | O1809: =IF(March_21[[#This Row],[WIN_OSE]]=0,('Summary Sheet'!$O$1)-('Summary Sheet'!$O$1*2%),-'Summary Sheet'!$O$1*(March_21[[#This Row],[BSP]]-1)) -> 1.96
A1810: 180500780 | B1810: RPGTV | C1810: Shelbourne | D1810: 13th Mar | E1810: OR | F1810: 549m | G1810: 44268 | H1810: 0.90972222 | I1810: 38798209 | J1810: 1 | K1810: Rathcoole Fox | L1810: 0 | M1810: 2.78 | N1810: 19736.26 | O1810: =IF(March_21[[#This Row],[WIN_OSE]]=0,('Summary Sheet'!$O$1)-('Summary Sheet'!$O$1*2%),-'Summary Sheet'!$O$1*(March_21[[#This Row],[BSP]]-1)) -> 1.96
A1811: 180529942 | B1811: TRP | C1811: PelawGrange | D1811: 14th Mar | E1811: A7 | F1811: 435m | G1811: 44269 | H1811: 0.4625 | I1811: 23649219 | J1811: 1 | K1811: Peachstreet Ella | L1811: 1 | M1811: 2.347815 | N1811: 10384.54 | O1811: =IF(March_21[[#This Row],[WIN_OSE]]=0,('Summary Sheet'!$O$1)-('Summary Sheet'!$O$1*2%),-'Summary Sheet'!$O$1*(March_21[[#This Row],[BSP]]-1)) -> -2.69563
... A4247: 181315210 | B4247: RPGTV | C4247: Harlow | D4247: 31st Mar | E4247: A7 | F4247: 415m | G4247: 44286 | H4247: 0.8875 | I4247: 38480920 | J4247: 5 | K4247: Moaning Pacino | L4247: 0 | M4247: 3.3330434 | N4247: 8034.66 | O4247: =IF(March_21[[#This Row],[WIN_OSE]]=0,('Summary Sheet'!$O$1)-('Summary Sheet'!$O$1*2%),-'Summary Sheet'!$O$1*(March_21[[#This Row],[BSP]]-1)) -> 1.96
O4248: =SUBTOTAL(109,March_21[P/L]) -> -121.84883
