Workbook

Sheet OGS-H
A1: Home | B1: OGS: Opening Goals Scored | C1: OGS: Avg Minute | D1: 0-15 | E1: 16-30 | F1: 31-45 | G1: 46-60 | H1: 61-75 | I1: 76-90 | J1: OGS: % in 1st Half | K1: OGS: % in 2nd Half
A2: Atlanta Utd | B2: 2 | C2: 40 | D2: 0 | E2: 1 | F2: 0 | G2: 1 | H2: 0 | I2: 0 | J2: 0.5 | K2: 0.5
A3: Austin | B3: 2 | C3: 12 | D3: 1 | E3: 1 | F3: 0 | G3: 0 | H3: 0 | I3: 0 | J3: 1 | K3: 0
A4: CF Montreal | B4: 1 | C4: 32 | D4: 0 | E4: 0 | F4: 1 | G4: 0 | H4: 0 | I4: 0 | J4: 1 | K4: 0
A5: Charlotte | B5: 0 | D5: 0 | E5: 0 | F5: 0 | G5: 0 | H5: 0 | I5: 0 | J5: 0 | K5: 0
A6: Chicago Fire | B6: 0 | D6: 0 | E6: 0 | F6: 0 | G6: 0 | H6: 0 | I6: 0 | J6: 0 | K6: 0
A7: Cincinnati | B7: 0 | D7: 0 | E7: 0 | F7: 0 | G7: 0 | H7: 0 | I7: 0 | J7: 0 | K7: 0
A8: Colorado Rapids | B8: 2 | C8: 27 | D8: 0 | E8: 1 | F8: 1 | G8: 0 | H8: 0 | I8: 0 | J8: 1 | K8: 0
A9: Columbus Crew | B9: 1 | C9: 8 | D9: 1 | E9: 0 | F9: 0 | G9: 0 | H9: 0 | I9: 0 | J9: 1 | K9: 0
A10: Dallas | B10: 2 | C10: 47 | D10: 1 | E10: 0 | F10: 0 | G10: 0 | H10: 0 | I10: 1 | J10: 0.5 | K10: 0.5
A11: DC United | B11: 1 | C11: 37 | D11: 0 | E11: 0 | F11: 1 | G11: 0 | H11: 0 | I11: 0 | J11: 1 | K11: 0
A12: Houston Dynamo | B12: 0 | D12: 0 | E12: 0 | F12: 0 | G12: 0 | H12: 0 | I12: 0 | J12: 0 | K12: 0
A13: Inter Miami | B13: 0 | D13: 0 | E13: 0 | F13: 0 | G13: 0 | H13: 0 | I13: 0 | J13: 0 | K13: 0
A14: LA Galaxy | B14: 1 | C14: 90 | D14: 0 | E14: 0 | F14: 0 | G14: 0 | H14: 0 | I14: 1 | J14: 0 | K14: 1
A15: Los Angeles FC | B15: 1 | C15: 29 | D15: 0 | E15: 1 | F15: 0 | G15: 0 | H15: 0 | I15: 0 | J15: 1 | K15: 0
A16: Minnesota Utd | B16: 0 | D16: 0 | E16: 0 | F16: 0 | G16: 0 | H16: 0 | I16: 0 | J16: 0 | K16: 0
A17: Nashville SC | B17: 0 | D17: 0 | E17: 0 | F17: 0 | G17: 0 | H17: 0 | I17: 0 | J17: 0 | K17: 0
A18: New England | B18: 2 | C18: 45 | D18: 0 | E18: 0 | F18: 2 | G18: 0 | H18: 0 | I18: 0 | J18: 1 | K18: 0
A19: New York City | B19: 1 | C19: 7 | D19: 1 | E19: 0 | F19: 0 | G19: 0 | H19: 0 | I19: 0 | J19: 1 | K19: 0
A20: New York RB | B20: 0 | D20: 0 | E20: 0 | F20: 0 | G20: 0 | H20: 0 | I20: 0 | J20: 0 | K20: 0
A21: Orlando City | B21: 1 | C21: 49 | D21: 0 | E21: 0 | F21: 0 | G21: 1 | H21: 0 | I21: 0 | J21: 0 | K21: 1
A22: Philadelphia | B22: 1 | C22: 23 | D22: 0 | E22: 1 | F22: 0 | G22: 0 | H22: 0 | I22: 0 | J22: 1 | K22: 0
A23: Portland | B23: 1 | C23: 62 | D23: 0 | E23: 0 | F23: 0 | G23: 0 | H23: 1 | I23: 0 | J23: 0 | K23: 1
A24: Real Salt Lake | B24: 1 | C24: 46 | D24: 0 | E24: 0 | F24: 0 | G24: 1 | H24: 0 | I24: 0 | J24: 0 | K24: 1
A25: Seattle | B25: 0 | D25: 0 | E25: 0 | F25: 0 | G25: 0 | H25: 0 | I25: 0 | J25: 0 | K25: 0
A26: SJ Earthquakes | B26: 1 | C26: 9 | D26: 1 | E26: 0 | F26: 0 | G26: 0 | H26: 0 | I26: 0 | J26: 1 | K26: 0
A27: Sporting KC | B27: 1 | C27: 60 | D27: 0 | E27: 0 | F27: 0 | G27: 1 | H27: 0 | I27: 0 | J27: 0 | K27: 1
A28: Toronto | B28: 0 | D28: 0 | E28: 0 | F28: 0 | G28: 0 | H28: 0 | I28: 0 | J28: 0 | K28: 0
A29: Vancouver | B29: 0 | D29: 0 | E29: 0 | F29: 0 | G29: 0 | H29: 0 | I29: 0 | J29: 0 | K29: 0
A30: League avg. | C30: 36 | D30: 22.7% | E30: 22.7% | F30: 22.7% | G30: 18.2% | H30: 4.5% | I30: 9.1% | J30: 0.682 | K30: 0.318

Sheet OGC-H
A1: Home | B1: OGC | C1: Avg. minute | D1: 0-15 | E1: 16-30 | F1: 31-45 | G1: 46-60 | H1: 61-75 | I1: 76-90 | J1: 1st half | K1: 2nd half_2
A2: Atlanta Utd | B2: 0 | D2: 0 | E2: 0 | F2: 0 | G2: 0 | H2: 0 | I2: 0 | J2: 0 | K2: 0
A3: Austin | B3: 0 | D3: 0 | E3: 0 | F3: 0 | G3: 0 | H3: 0 | I3: 0 | J3: 0 | K3: 0
A4: CF Montreal | B4: 0 | D4: 0 | E4: 0 | F4: 0 | G4: 0 | H4: 0 | I4: 0 | J4: 0 | K4: 0
A5: Charlotte | B5: 1 | C5: 77 | D5: 0 | E5: 0 | F5: 0 | G5: 0 | H5: 0 | I5: 1 | J5: 0 | K5: 1
A6: Chicago Fire | B6: 0 | D6: 0 | E6: 0 | F6: 0 | G6: 0 | H6: 0 | I6: 0 | J6: 0 | K6: 0
A7: Cincinnati | B7: 1 | C7: 90 | D7: 0 | E7: 0 | F7: 0 | G7: 0 | H7: 0 | I7: 1 | J7: 0 | K7: 1
A8: Colorado Rapids | B8: 0 | D8: 0 | E8: 0 | F8: 0 | G8: 0 | H8: 0 | I8: 0 | J8: 0 | K8: 0
A9: Columbus Crew | B9: 1 | C9: 14 | D9: 1 | E9: 0 | F9: 0 | G9: 0 | H9: 0 | I9: 0 | J9: 1 | K9: 0
A10: Dallas | B10: 0 | D10: 0 | E10: 0 | F10: 0 | G10: 0 | H10: 0 | I10: 0 | J10: 0 | K10: 0
A11: DC United | B11: 1 | C11: 32 | D11: 0 | E11: 0 | F11: 1 | G11: 0 | H11: 0 | I11: 0 | J11: 1 | K11: 0
A12: Houston Dynamo | B12: 1 | C12: 14 | D12: 1 | E12: 0 | F12: 0 | G12: 0 | H12: 0 | I12: 0 | J12: 1 | K12: 0
A13: Inter Miami | B13: 1 | C13: 45 | D13: 0 | E13: 0 | F13: 1 | G13: 0 | H13: 0 | I13: 0 | J13: 1 | K13: 0
A14: LA Galaxy | B14: 0 | D14: 0 | E14: 0 | F14: 0 | G14: 0 | H14: 0 | I14: 0 | J14: 0 | K14: 0
A15: Los Angeles FC | B15: 1 | C15: 18 | D15: 0 | E15: 1 | F15: 0 | G15: 0 | H15: 0 | I15: 0 | J15: 1 | K15: 0
A16: Minnesota Utd | B16: 1 | C16: 5 | D16: 1 | E16: 0 | F16: 0 | G16: 0 | H16: 0 | I16: 0 | J16: 1 | K16: 0
A17: Nashville SC | B17: 0 | D17: 0 | E17: 0 | F17: 0 | G17: 0 | H17: 0 | I17: 0 | J17: 0 | K17: 0
A18: New England | B18: 0 | D18: 0 | E18: 0 | F18: 0 | G18: 0 | H18: 0 | I18: 0 | J18: 0 | K18: 0
A19: New York City | B19: 0 | D19: 0 | E19: 0 | F19: 0 | G19: 0 | H19: 0 | I19: 0 | J19: 0 | K19: 0
A20: New York RB | B20: 1 | C20: 51 | D20: 0 | E20: 0 | F20: 0 | G20: 1 | H20: 0 | I20: 0 | J20: 0 | K20: 1
A21: Orlando City | B21: 1 | C21: 13 | D21: 1 | E21: 0 | F21: 0 | G21: 0 | H21: 0 | I21: 0 | J21: 1 | K21: 0
A22: Philadelphia | B22: 1 | C22: 23 | D22: 0 | E22: 1 | F22: 0 | G22: 0 | H22: 0 | I22: 0 | J22: 1 | K22: 0
A23: Portland | B23: 1 | C23: 41 | D23: 0 | E23: 0 | F23: 1 | G23: 0 | H23: 0 | I23: 0 | J23: 1 | K23: 0
A24: Real Salt Lake | B24: 0 | D24: 0 | E24: 0 | F24: 0 | G24: 0 | H24: 0 | I24: 0 | J24: 0 | K24: 0
A25: Seattle | B25: 2 | C25: 43 | D25: 1 | E25: 0 | F25: 0 | G25: 0 | H25: 0 | I25: 1 | J25: 0.5 | K25: 0.5
A26: SJ Earthquakes | B26: 1 | C26: 45 | D26: 0 | E26: 0 | F26: 1 | G26: 0 | H26: 0 | I26: 0 | J26: 1 | K26: 0
A27: Sporting KC | B27: 0 | D27: 0 | E27: 0 | F27: 0 | G27: 0 | H27: 0 | I27: 0 | J27: 0 | K27: 0
A28: Toronto | B28: 1 | C28: 17 | D28: 0 | E28: 1 | F28: 0 | G28: 0 | H28: 0 | I28: 0 | J28: 1 | K28: 0
A29: Vancouver | B29: 0 | D29: 0 | E29: 0 | F29: 0 | G29: 0 | H29: 0 | I29: 0 | J29: 0 | K29: 0
A30: League avg. | C30: 36 | D30: 0 | E30: 0 | F30: 0 | G30: 0 | H30: 0 | I30: 0 | J30: 0.75 | K30: 0.25

Sheet OGS-A
A1: Away | B1: OGS | C1: Avg. minute | D1: 0-15 | E1: 16-30 | F1: 31-45 | G1: 46-60 | H1: 61-75 | I1: 76-90 | J1: 1st half | K1: 2nd half_2
A2: Atlanta Utd | B2: 0 | D2: 0 | E2: 0 | F2: 0 | G2: 0 | H2: 0 | I2: 0 | J2: 0 | K2: 0
A3: Austin | B3: 0 | D3: 0 | E3: 0 | F3: 0 | G3: 0 | H3: 0 | I3: 0 | J3: 0 | K3: 0
A4: CF Montreal | B4: 0 | D4: 0 | E4: 0 | F4: 0 | G4: 0 | H4: 0 | I4: 0 | J4: 0 | K4: 0
A5: Charlotte | B5: 0 | D5: 0 | E5: 0 | F5: 0 | G5: 0 | H5: 0 | I5: 0 | J5: 0 | K5: 0
A6: Chicago Fire | B6: 1 | C6: 32 | D6: 0 | E6: 0 | F6: 1 | G6: 0 | H6: 0 | I6: 0 | J6: 1 | K6: 0
A7: Cincinnati | B7: 1 | C7: 13 | D7: 1 | E7: 0 | F7: 0 | G7: 0 | H7: 0 | I7: 0 | J7: 1 | K7: 0
A8: Colorado Rapids | B8: 0 | D8: 0 | E8: 0 | F8: 0 | G8: 0 | H8: 0 | I8: 0 | J8: 0 | K8: 0
A9: Columbus Crew | B9: 0 | D9: 0 | E9: 0 | F9: 0 | G9: 0 | H9: 0 | I9: 0 | J9: 0 | K9: 0
A10: Dallas | B10: 0 | D10: 0 | E10: 0 | F10: 0 | G10: 0 | H10: 0 | I10: 0 | J10: 0 | K10: 0
A11: DC United | B11: 1 | C11: 90 | D11: 0 | E11: 0 | F11: 0 | G11: 0 | H11: 0 | I11: 1 | J11: 0 | K11: 1
A12: Houston Dynamo | B12: 0 | D12: 0 | E12: 0 | F12: 0 | G12: 0 | H12: 0 | I12: 0 | J12: 0 | K12: 0
A13: Inter Miami | B13: 0 | D13: 0 | E13: 0 | F13: 0 | G13: 0 | H13: 0 | I13: 0 | J13: 0 | K13: 0
A14: LA Galaxy | B14: 2 | C14: 42 | D14: 1 | E14: 0 | F14: 0 | G14: 0 | H14: 0 | I14: 1 | J14: 0.5 | K14: 0.5
A15: Los Angeles FC | B15: 1 | C15: 45 | D15: 0 | E15: 0 | F15: 1 | G15: 0 | H15: 0 | I15: 0 | J15: 1 | K15: 0
A16: Minnesota Utd | B16: 2 | C16: 37 | D16: 0 | E16: 1 | F16: 0 | G16: 1 | H16: 0 | I16: 0 | J16: 0.5 | K16: 0.5
A17: Nashville SC | B17: 2 | C17: 43 | D17: 1 | E17: 0 | F17: 0 | G17: 0 | H17: 0 | I17: 1 | J17: 0.5 | K17: 0.5
A18: New England | B18: 1 | C18: 41 | D18: 0 | E18: 0 | F18: 1 | G18: 0 | H18: 0 | I18: 0 | J18: 1 | K18: 0
A19: New York City | B19: 0 | D19: 0 | E19: 0 | F19: 0 | G19: 0 | H19: 0 | I19: 0 | J19: 0 | K19: 0
A20: New York RB | B20: 2 | C20: 31 | D20: 0 | E20: 1 | F20: 1 | G20: 0 | H20: 0 | I20: 0 | J20: 1 | K20: 0
A21: Orlando City | B21: 0 | D21: 0 | E21: 0 | F21: 0 | G21: 0 | H21: 0 | I21: 0 | J21: 0 | K21: 0
A22: Philadelphia | B22: 0 | D22: 0 | E22: 0 | F22: 0 | G22: 0 | H22: 0 | I22: 0 | J22: 0 | K22: 0
A23: Portland | B23: 1 | C23: 18 | D23: 0 | E23: 1 | F23: 0 | G23: 0 | H23: 0 | I23: 0 | J23: 1 | K23: 0
A24: Real Salt Lake | B24: 0 | D24: 0 | E24: 0 | F24: 0 | G24: 0 | H24: 0 | I24: 0 | J24: 0 | K24: 0
A25: Seattle | B25: 0 | D25: 0 | E25: 0 | F25: 0 | G25: 0 | H25: 0 | I25: 0 | J25: 0 | K25: 0
A26: SJ Earthquakes | B26: 0 | D26: 0 | E26: 0 | F26: 0 | G26: 0 | H26: 0 | I26: 0 | J26: 0 | K26: 0
A27: Sporting KC | B27: 0 | D27: 0 | E27: 0 | F27: 0 | G27: 0 | H27: 0 | I27: 0 | J27: 0 | K27: 0
A28: Toronto | B28: 1 | C28: 14 | D28: 1 | E28: 0 | F28: 0 | G28: 0 | H28: 0 | I28: 0 | J28: 1 | K28: 0
A29: Vancouver | B29: 1 | C29: 14 | D29: 1 | E29: 0 | F29: 0 | G29: 0 | H29: 0 | I29: 0 | J29: 1 | K29: 0
A30: League avg. | B30: 1 | C30: 36 | D30: 0.313 | E30: 0.188 | F30: 0.25 | G30: 0.063 | H30: 0 | I30: 0.188 | J30: 0.75 | K30: 0.25

Sheet OGC-A
A1: Away | B1: OGC | C1: Avg. minute | D1: 0-15 | E1: 16-30 | F1: 31-45 | G1: 46-60 | H1: 61-75 | I1: 76-90 | J1: 1st half | K1: 2nd half_2
A2: Atlanta Utd | B2: 1 | C2: 33 | D2: 0 | E2: 0 | F2: 1 | G2: 0 | H2: 0 | I2: 0 | J2: 1 | K2: 0
A3: Austin | B3: 1 | C3: 62 | D3: 0 | E3: 0 | F3: 0 | G3: 0 | H3: 1 | I3: 0 | J3: 0 | K3: 1
A4: CF Montreal | B4: 2 | C4: 28 | D4: 1 | E4: 0 | F4: 0 | G4: 1 | H4: 0 | I4: 0 | J4: 0.5 | K4: 0.5
A5: Charlotte | B5: 2 | C5: 48 | D5: 0 | E5: 0 | F5: 1 | G5: 1 | H5: 0 | I5: 0 | J5: 0.5 | K5: 0.5
A6: Chicago Fire | B6: 0 | D6: 0 | E6: 0 | F6: 0 | G6: 0 | H6: 0 | I6: 0 | J6: 0 | K6: 0
A7: Cincinnati | B7: 1 | C7: 2 | D7: 1 | E7: 0 | F7: 0 | G7: 0 | H7: 0 | I7: 0 | J7: 1 | K7: 0
A8: Colorado Rapids | B8: 1 | C8: 29 | D8: 0 | E8: 1 | F8: 0 | G8: 0 | H8: 0 | I8: 0 | J8: 1 | K8: 0
A9: Columbus Crew | B9: 1 | C9: 9 | D9: 1 | E9: 0 | F9: 0 | G9: 0 | H9: 0 | I9: 0 | J9: 1 | K9: 0
A10: Dallas | B10: 1 | C10: 45 | D10: 0 | E10: 0 | F10: 1 | G10: 0 | H10: 0 | I10: 0 | J10: 1 | K10: 0
A11: DC United | B11: 0 | D11: 0 | E11: 0 | F11: 0 | G11: 0 | H11: 0 | I11: 0 | J11: 0 | K11: 0
A12: Houston Dynamo | B12: 1 | C12: 60 | D12: 0 | E12: 0 | F12: 0 | G12: 1 | H12: 0 | I12: 0 | J12: 0 | K12: 1
A13: Inter Miami | B13: 1 | C13: 22 | D13: 0 | E13: 1 | F13: 0 | G13: 0 | H13: 0 | I13: 0 | J13: 1 | K13: 0
A14: LA Galaxy | B14: 0 | D14: 0 | E14: 0 | F14: 0 | G14: 0 | H14: 0 | I14: 0 | J14: 0 | K14: 0
A15: Los Angeles FC | B15: 0 | D15: 0 | E15: 0 | F15: 0 | G15: 0 | H15: 0 | I15: 0 | J15: 0 | K15: 0
A16: Minnesota Utd | B16: 0 | D16: 0 | E16: 0 | F16: 0 | G16: 0 | H16: 0 | I16: 0 | J16: 0 | K16: 0
A17: Nashville SC | B17: 1 | C17: 85 | D17: 0 | E17: 0 | F17: 0 | G17: 0 | H17: 0 | I17: 1 | J17: 0 | K17: 1
A18: New England | B18: 0 | D18: 0 | E18: 0 | F18: 0 | G18: 0 | H18: 0 | I18: 0 | J18: 0 | K18: 0
A19: New York City | B19: 1 | C19: 90 | D19: 0 | E19: 0 | F19: 0 | G19: 0 | H19: 0 | I19: 1 | J19: 0 | K19: 1
A20: New York RB | B20: 0 | D20: 0 | E20: 0 | F20: 0 | G20: 0 | H20: 0 | I20: 0 | J20: 0 | K20: 0
A21: Orlando City | B21: 0 | D21: 0 | E21: 0 | F21: 0 | G21: 0 | H21: 0 | I21: 0 | J21: 0 | K21: 0
A22: Philadelphia | B22: 1 | C22: 32 | D22: 0 | E22: 0 | F22: 1 | G22: 0 | H22: 0 | I22: 0 | J22: 1 | K22: 0
A23: Portland | B23: 0 | D23: 0 | E23: 0 | F23: 0 | G23: 0 | H23: 0 | I23: 0 | J23: 0 | K23: 0
A24: Real Salt Lake | B24: 1 | C24: 45 | D24: 0 | E24: 0 | F24: 1 | G24: 0 | H24: 0 | I24: 0 | J24: 1 | K24: 0
A25: Seattle | B25: 1 | C25: 46 | D25: 0 | E25: 0 | F25: 0 | G25: 1 | H25: 0 | I25: 0 | J25: 0 | K25: 1
A26: SJ Earthquakes | B26: 1 | C26: 23 | D26: 0 | E26: 1 | F26: 0 | G26: 0 | H26: 0 | I26: 0 | J26: 1 | K26: 0
A27: Sporting KC | B27: 2 | C27: 21 | D27: 0 | E27: 2 | F27: 0 | G27: 0 | H27: 0 | I27: 0 | J27: 1 | K27: 0
A28: Toronto | B28: 1 | C28: 9 | D28: 1 | E28: 0 | F28: 0 | G28: 0 | H28: 0 | I28: 0 | J28: 1 | K28: 0
A29: Vancouver | B29: 1 | C29: 8 | D29: 1 | E29: 0 | F29: 0 | G29: 0 | H29: 0 | I29: 0 | J29: 1 | K29: 0
A30: League avg. | B30: 0.8 | C30: 36 | D30: 0.227 | E30: 0.227 | F30: 0.227 | G30: 0.182 | H30: 0.045 | I30: 0.091 | J30: 0.682 | K30: 0.318

Sheet FHT-H
A1: Team | B1: GP | C1: W | D1: D | E1: L | F1: GF | G1: GA | H1: GD | I1: Pts
A2: Austin | B2: 2 | C2: 2 | D2: 0 | E2: 0 | F2: 5 | G2: 0 | H2: 5 | I2: 6
A3: Colorado Rapids | B3: 2 | C3: 2 | D3: 0 | E3: 0 | F3: 2 | G3: 0 | H3: 2 | I3: 6
A4: New England | B4: 2 | C4: 2 | D4: 0 | E4: 0 | F4: 2 | G4: 0 | H4: 2 | I4: 6
A5: Atlanta Utd | B5: 2 | C5: 1 | D5: 1 | E5: 0 | F5: 2 | G5: 0 | H5: 2 | I5: 4
A6: Philadelphia | B6: 2 | C6: 1 | D6: 1 | E6: 0 | F6: 2 | G6: 1 | H6: 1 | I6: 4
A7: Seattle | B7: 2 | C7: 1 | D7: 1 | E7: 0 | F7: 2 | G7: 1 | H7: 1 | I7: 4
A8: New York City | B8: 1 | C8: 1 | D8: 0 | E8: 0 | F8: 2 | G8: 0 | H8: 2 | I8: 3
A9: Columbus Crew | B9: 2 | C9: 1 | D9: 0 | E9: 1 | F9: 2 | G9: 1 | H9: 1 | I9: 3
A10: DC United | B10: 2 | C10: 1 | D10: 0 | E10: 1 | F10: 2 | G10: 1 | H10: 1 | I10: 3
A11: Los Angeles FC | B11: 2 | C11: 1 | D11: 0 | E11: 1 | F11: 2 | G11: 1 | H11: 1 | I11: 3
A12: CF Montreal | B12: 1 | C12: 1 | D12: 0 | E12: 0 | F12: 1 | G12: 0 | H12: 1 | I12: 3
A13: Dallas | B13: 2 | C13: 0 | D13: 2 | E13: 0 | F13: 1 | G13: 1 | H13: 0 | I13: 2
... A29: Toronto | B29: 1 | C29: 0 | D29: 0 | E29: 1 | F29: 1 | G29: 4 | H29: -3 | I29: 0

Sheet FHT-A
A1: Team | B1: GP | C1: W | D1: D | E1: L | F1: GF | G1: GA | H1: GD | I1: Pts
A2: New York RB | B2: 2 | C2: 2 | D2: 0 | E2: 0 | F2: 5 | G2: 1 | H2: 4 | I2: 6
A3: Nashville SC | B3: 3 | C3: 1 | D3: 2 | E3: 0 | F3: 1 | G3: 0 | H3: 1 | I3: 5
A4: Toronto | B4: 2 | C4: 1 | D4: 1 | E4: 0 | F4: 2 | G4: 1 | H4: 1 | I4: 4
A5: Chicago Fire | B5: 2 | C5: 1 | D5: 1 | E5: 0 | F5: 1 | G5: 0 | H5: 1 | I5: 4
A6: Los Angeles FC | B6: 1 | C6: 1 | D6: 0 | E6: 0 | F6: 1 | G6: 0 | H6: 1 | I6: 3
A7: New England | B7: 1 | C7: 1 | D7: 0 | E7: 0 | F7: 1 | G7: 0 | H7: 1 | I7: 3
A8: Portland | B8: 1 | C8: 1 | D8: 0 | E8: 0 | F8: 1 | G8: 0 | H8: 1 | I8: 3
A9: Minnesota Utd | B9: 2 | C9: 0 | D9: 2 | E9: 0 | F9: 1 | G9: 1 | H9: 0 | I9: 2
A10: New York City | B10: 2 | C10: 0 | D10: 2 | E10: 0 | F10: 0 | G10: 0 | H10: 0 | I10: 2
A11: Columbus Crew | B11: 1 | C11: 0 | D11: 1 | E11: 0 | F11: 1 | G11: 1 | H11: 0 | I11: 1
A12: Austin | B12: 1 | C12: 0 | D12: 1 | E12: 0 | F12: 0 | G12: 0 | H12: 0 | I12: 1
A13: DC United | B13: 1 | C13: 0 | D13: 1 | E13: 0 | F13: 0 | G13: 0 | H13: 0 | I13: 1
... A29: Sporting KC | B29: 2 | C29: 0 | D29: 0 | E29: 2 | F29: 0 | G29: 3 | H29: -3 | I29: 0

Sheet MGS-H
A1: Home matches of... | B1: GP | C1: Avg | D1: 0.5+ | E1: 1.5+ | F1: 2.5+ | G1: 3.5+ | H1: 4.5+ | I1: 5.5+ | J1: BTS | K1: CS | L1: FTS | M1: WTN | N1: LTN
A2: Toronto | B2: 1 | C2: 5 | D2: 1 | E2: 1 | F2: 1 | G2: 1 | H2: 1 | I2: 0 | J2: 1 | K2: 0 | L2: 0 | M2: 0 | N2: 0
A3: Austin | B3: 2 | C3: 2.5 | D3: 1 | E3: 1 | F3: 0.5 | G3: 0 | H3: 0 | I3: 0 | J3: 0 | K3: 1 | L3: 0 | M3: 1 | N3: 0
A4: New York City | B4: 1 | C4: 2 | D4: 1 | E4: 1 | F4: 0 | G4: 0 | H4: 0 | I4: 0 | J4: 0 | K4: 1 | L4: 0 | M4: 1 | N4: 0
A5: Columbus Crew | B5: 2 | C5: 1.5 | D5: 1 | E5: 0.5 | F5: 0 | G5: 0 | H5: 0 | I5: 0 | J5: 0 | K5: 0.5 | L5: 0.5 | M5: 0.5 | N5: 0.5
A6: DC United | B6: 2 | C6: 1.5 | D6: 1 | E6: 0.5 | F6: 0 | G6: 0 | H6: 0 | I6: 0 | J6: 0 | K6: 0.5 | L6: 0.5 | M6: 0.5 | N6: 0.5
A7: Los Angeles FC | B7: 2 | C7: 1.5 | D7: 1 | E7: 0.5 | F7: 0 | G7: 0 | H7: 0 | I7: 0 | J7: 0 | K7: 0.5 | L7: 0.5 | M7: 0.5 | N7: 0.5
A8: Philadelphia | B8: 2 | C8: 1.5 | D8: 1 | E8: 0.5 | F8: 0 | G8: 0 | H8: 0 | I8: 0 | J8: 0.5 | K8: 0.5 | L8: 0 | M8: 0.5 | N8: 0
A9: Seattle | B9: 2 | C9: 1.5 | D9: 0.5 | E9: 0.5 | F9: 0.5 | G9: 0 | H9: 0 | I9: 0 | J9: 0.5 | K9: 0.5 | L9: 0.5 | M9: 0 | N9: 0
A10: SJ Earthquakes | B10: 2 | C10: 1.5 | D10: 1 | E10: 0.5 | F10: 0 | G10: 0 | H10: 0 | I10: 0 | J10: 0.5 | K10: 0 | L10: 0.5 | M10: 0 | N10: 0.5
A11: Atlanta Utd | B11: 2 | C11: 1 | D11: 0.5 | E11: 0.5 | F11: 0 | G11: 0 | H11: 0 | I11: 0 | J11: 0 | K11: 1 | L11: 0.5 | M11: 0.5 | N11: 0
A12: CF Montreal | B12: 1 | C12: 1 | D12: 1 | E12: 0 | F12: 0 | G12: 0 | H12: 0 | I12: 0 | J12: 0 | K12: 1 | L12: 0 | M12: 1 | N12: 0
A13: Colorado Rapids | B13: 2 | C13: 1 | D13: 1 | E13: 0 | F13: 0 | G13: 0 | H13: 0 | I13: 0 | J13: 0 | K13: 1 | L13: 0 | M13: 1 | N13: 0
... A28: Vancouver | B28: 1 | C28: 0 | D28: 0 | E28: 0 | F28: 0 | G28: 0 | H28: 0 | I28: 0 | J28: 0 | K28: 1 | L28: 1 | M28: 0 | N28: 0

Sheet MSG-A
A1: Away matches of... | B1: GP | C1: Avg | D1: 0.5+ | E1: 1.5+ | F1: 2.5+ | G1: 3.5+ | H1: 4.5+ | I1: 5.5+ | J1: BTS | K1: CS | L1: FTS | M1: WTN | N1: LTN
A2: New York RB | B2: 2 | C2: 3 | D2: 1 | E2: 0.5 | F2: 0.5 | G2: 0.5 | H2: 0.5 | I2: 0 | J2: 0.5 | K2: 0.5 | L2: 0 | M2: 0.5 | N2: 0
A3: Cincinnati | B3: 2 | C3: 2.5 | D3: 1 | E3: 1 | F3: 0.5 | G3: 0 | H3: 0 | I3: 0 | J3: 0.5 | K3: 0 | L3: 0.5 | M3: 0 | N3: 0.5
A4: Colorado Rapids | B4: 1 | C4: 2 | D4: 1 | E4: 1 | F4: 0 | G4: 0 | H4: 0 | I4: 0 | J4: 0 | K4: 0 | L4: 1 | M4: 0 | N4: 1
A5: Columbus Crew | B5: 1 | C5: 2 | D5: 1 | E5: 1 | F5: 0 | G5: 0 | H5: 0 | I5: 0 | J5: 1 | K5: 0 | L5: 0 | M5: 0 | N5: 0
A6: Inter Miami | B6: 1 | C6: 2 | D6: 1 | E6: 1 | F6: 0 | G6: 0 | H6: 0 | I6: 0 | J6: 0 | K6: 0 | L6: 1 | M6: 0 | N6: 1
A7: Vancouver | B7: 2 | C7: 2 | D7: 1 | E7: 1 | F7: 0 | G7: 0 | H7: 0 | I7: 0 | J7: 0.5 | K7: 0 | L7: 0.5 | M7: 0 | N7: 0.5
A8: LA Galaxy | B8: 2 | C8: 1.5 | D8: 0.5 | E8: 0.5 | F8: 0.5 | G8: 0 | H8: 0 | I8: 0 | J8: 0.5 | K8: 0.5 | L8: 0.5 | M8: 0 | N8: 0
A9: Sporting KC | B9: 2 | C9: 1.5 | D9: 1 | E9: 0.5 | F9: 0 | G9: 0 | H9: 0 | I9: 0 | J9: 0 | K9: 0 | L9: 1 | M9: 0 | N9: 1
A10: Toronto | B10: 2 | C10: 1.5 | D10: 1 | E10: 0.5 | F10: 0 | G10: 0 | H10: 0 | I10: 0 | J10: 0.5 | K10: 0.5 | L10: 0 | M10: 0.5 | N10: 0
A11: Atlanta Utd | B11: 1 | C11: 1 | D11: 1 | E11: 0 | F11: 0 | G11: 0 | H11: 0 | I11: 0 | J11: 0 | K11: 0 | L11: 1 | M11: 0 | N11: 1
A12: CF Montreal | B12: 2 | C12: 1 | D12: 0.5 | E12: 0.5 | F12: 0 | G12: 0 | H12: 0 | I12: 0 | J12: 0 | K12: 0.5 | L12: 1 | M12: 0 | N12: 0.5
A13: Charlotte | B13: 2 | C13: 1 | D13: 0.5 | E13: 0.5 | F13: 0 | G13: 0 | H13: 0 | I13: 0 | J13: 0 | K13: 0.5 | L13: 1 | M13: 0 | N13: 0.5
... A29: Seattle | B29: 1 | C29: 0 | D29: 0 | E29: 0 | F29: 0 | G29: 0 | H29: 0 | I29: 0 | J29: 0 | K29: 1 | L29: 1 | M29: 0 | N29: 0

Sheet Stat Sheet
A1: Stat Sheet for MLS (USA) season 2022 | H1: Which Team is Fav | J1: New York City | L1: =C4 -> New York City
L2: =G4 -> Philadelphia
D3: GP (Home) | H3: GP (Away) | J3: League Average | N3: Stats Scores
A4: Select home team | C4: New York City | D4: =_xlfn.XLOOKUP(C4,tbl_FHT_H[Team],tbl_FHT_H[GP]) -> 1 | E4: Select Away Team | G4: Philadelphia | H4: =_xlfn.XLOOKUP(G4,tbl_FHT_A[Team],tbl_FHT_A[GP]) -> 1 | J4: Home | K4: Away | N4: Home | O4: Away
A5: Average minute OGS was scored | D5: =_xlfn.XLOOKUP(C4,'OGS-H'!A2:A35,'OGS-H'!C2:C35) -> 7 | E5: Average minute OGS was scored | H5: =_xlfn.XLOOKUP(G4,'OGS-A'!A2:A35,'OGS-A'!C2:C35) -> 0 | J5: ='OGS-H'!C30 -> 36 | K5: ='OGS-A'!C30 -> 36 | N5: =IF(D5>J5,1,IF(D5=J5,3,5)) -> 5 | O5: =IF(H5>K5,1,IF(H5=K5,3,5)) -> 5
A6: OGS scored at home | D6: =_xlfn.XLOOKUP(C4,'OGS-H'!A2:A35,'OGS-H'!B2:B35) -> 1 | E6: OGS scored Away | H6: =_xlfn.XLOOKUP('Stat Sheet'!G4,'OGS-A'!A2:A35,'OGS-A'!B2:B35) -> 0 | J6: ='OGS-H'!B30 -> 0 | K6: ='OGS-A'!B30 -> 1 | N6: =IF(D6<J6,1,IF(D6=J6,3,5)) -> 5 | O6: =IF(H6<K6,1,IF(H6=K6,3,5)) -> 1
A7: Percentage of OGS scored in 1st Half | D7: =_xlfn.XLOOKUP(C4,'OGS-H'!A2:A35,'OGS-H'!J2:J35) -> 1 | E7: Percentage of OGS scored in 1st Half | H7: =_xlfn.XLOOKUP(G4,'OGS-A'!A2:A35,'OGS-A'!J2:J35) -> 0 | J7: ='OGS-H'!J30 -> 0.682 | K7: ='OGS-A'!J30 -> 0.75 | N7: =IF(D7>90%,5,IF(D7>80%,4,IF(D7>70%,3,IF(D7>60%,2,IF(D7>50%,1,-3))))) -> 5 | O7: =IF(H7>90%,5,IF(H7>80%,4,IF(H7>70%,3,IF(H7>60%,2,IF(H7>50%,1,-3))))) -> -3
A8: Average minute OGC was Conceded | D8: =_xlfn.XLOOKUP(C4,'OGC-H'!A2:A35,'OGC-H'!$C$2:$C$35) -> 0 | E8: Average minute OGC was Conceded | H8: =_xlfn.XLOOKUP(G4,'OGC-A'!A2:A35,'OGC-A'!C2:C35) -> 32 | J8: ='OGC-H'!C30 -> 36 | K8: ='OGC-H'!C30 -> 36 | N8: =IF(D8<J8,5,IF(D8<45,3,-5)) -> 5 | O8: =IF(H8<K8,5,IF(H8<45,3,-5)) -> 5
A9: OGC Conceded at home | D9: =_xlfn.XLOOKUP('Stat Sheet'!C4,'OGC-H'!A2:A35,'OGC-H'!$B$2:$B$35) -> 0 | E9: OGC Conceded Away | H9: =_xlfn.XLOOKUP(G4,'OGC-A'!A2:A35,'OGC-A'!B2:B35) -> 1 | J9: ='OGC-H'!B30 -> 0 | K9: ='OGC-A'!B30 -> 0.8 | N9: =IF(D9<J9,1,IF(D9=J9,3,5)) -> 3 | O9: =IF(H9<K9,1,IF(H9=K9,3,5)) -> 5
A10: Percentage of OGC Conceded in 1st Half | D10: =_xlfn.XLOOKUP(C4,'OGC-H'!A2:A35,'OGC-H'!J2:J35) -> 0 | E10: Percentage of OGC Conceded in 1st Half | H10: =_xlfn.XLOOKUP(G4,'OGC-A'!A2:A35,'OGC-A'!J2:J35) -> 1 | J10: ='OGC-H'!J30 -> 0.75 | K10: ='OGC-A'!J30 -> 0.682 | N10: =IF(D10>90%,5,IF(D10>80%,4,IF(D10>70%,3,IF(D10>60%,2,IF(D10>50%,1,-3))))) -> -3 | O10: =IF(H10>90%,5,IF(H10>80%,4,IF(H10>70%,3,IF(H10>60%,2,IF(E10>50%,1,-3))))) -> 5
A11: Total Number of Goals Scored in 1st Half at Home | D11: =_xlfn.XLOOKUP(C4,tbl_FHT_H[Team],tbl_FHT_H[GF]) -> 2 | E11: Total Number of Goals Scored in 1st Half Away | H11: =_xlfn.XLOOKUP(G4,tbl_FHT_A[Team],tbl_FHT_A[GF]) -> 0 | J11: =AVERAGE(tbl_FHT_H[GF]) -> 1.0357143 | K11: =AVERAGE(tbl_FHT_A[GF]) -> 0.60714286 | N11: =IF(D11<D4,1,5) -> 5 | O11: =IF(H11<H4,1,5) -> 1
A12: % of games that had over 0.5 goals in first Half | D12: =_xlfn.XLOOKUP('Stat Sheet'!C4,tbl_MGS_H[Home matches of...],tbl_MGS_H[0.5+]) -> 1 | E12: % of games that had over 0.5 goals in first Half | H12: =_xlfn.XLOOKUP(G4,tbl_MSG_A[Away matches of...],tbl_MSG_A[0.5+]) -> 1 | J12: =AVERAGE(tbl_MGS_H[0.5+]) -> 0.57407407 | K12: =AVERAGE(tbl_MSG_A[0.5+]) -> 0.65464286 | N12: =IF(D12>90%,5,IF(D12>80%,4,IF(D12>70%,3,IF(D12>60%,2,IF(D12>50%,1,-3))))) -> 5 | O12: =IF(H12>90%,5,IF(H12>80%,4,IF(H12>70%,3,IF(H12>60%,2,IF(H12>50%,1,-3))))) -> 5
A13: % of games that had over 1.5 goals in first Half | D13: =_xlfn.XLOOKUP(C4,tbl_MGS_H[Home matches of...],tbl_MGS_H[1.5+]) -> 1 | E13: % of games that had over 1.5 goals in first Half | H13: =_xlfn.XLOOKUP(G4,tbl_MSG_A[Away matches of...],tbl_MSG_A[1.5+]) -> 0 | J13: =AVERAGE(tbl_MGS_H[1.5+]) -> 0.2962963 | K13: =AVERAGE(tbl_MSG_A[1.5+]) -> 0.30357143 | N13: =IF(D13>J13,5,1) -> 5 | O13: =IF(H13>K13,5,1) -> 1
A14: ="% of games where "&C4& " kept a Clean Sheet" -> % of games where New York City kept a Clean Sheet | D14: =_xlfn.XLOOKUP(C4,tbl_MGS_H[Home matches of...],tbl_MGS_H[CS]) -> 1 | E14: ="% of games where "&G4& " kept a Clean Sheet" -> % of games where Philadelphia kept a Clean Sheet | H14: =_xlfn.XLOOKUP(G4,tbl_MSG_A[Away matches of...],tbl_MSG_A[CS]) -> 0 | J14: =AVERAGE(tbl_MGS_H[CS]) -> 0.7037037 | K14: =AVERAGE(tbl_MSG_A[CS]) -> 0.51785714 | N14: =IF(D14>50%,1,5) -> 1 | O14: =IF(H14>50%,1,5) -> 5
A15: Half Time Odds (Home) | D15: 2 | E15: Half Time Odds (Away) | M15: Home team Fave@ odds of < 2.0 | N15: =IF(J1=C4,IF(D15<2,5,0),0) -> 0
A16: Over 0.5 Goals (1st Half) Odds | D16: 2 | E16: Over 0.5 Goals (1st Half) Odds | H16: =D16 -> 2 | M16: Over 0.5 goals odds <1.5 | N16: =IF(D16<1.5,5,0) -> 0
N17: =SUM(N5:N16) -> 36 | O17: =SUM(O5:O16) -> 30
N18: =SUM(N17:O17) -> 66 | P18: /110
