Workbook

Sheet Home Games
A1: Home matches of... | B1: GP | C1: Avg | D1: 0.5+ | E1: 1.5+ | F1: 2.5+ | G1: 3.5+ | H1: 4.5+ | I1: 5.5+ | J1: BTS | K1: CS | L1: FTS | M1: WTN | N1: LTN
A2: Reading | B2: 19 | C2: 3.26 | D2: 1 | E2: 0.74 | F2: 0.53 | G2: 0.42 | H2: 0.32 | I2: 0.16 | J2: 0.58 | K2: 0.16 | L2: 0.26 | M2: 0.16 | N2: 0.26
A3: Fulham | B3: 19 | C3: 3.21 | D3: 0.95 | E3: 0.89 | F3: 0.58 | G3: 0.26 | H3: 0.21 | I3: 0.11 | J3: 0.58 | K3: 0.37 | L3: 0.11 | M3: 0.32 | N3: 0.05
A4: Bournemouth | B4: 18 | C4: 2.94 | D4: 1 | E4: 0.94 | F4: 0.72 | G4: 0.28 | H4: 0 | I4: 0 | J4: 0.61 | K4: 0.28 | L4: 0.11 | M4: 0.28 | N4: 0.11
A5: Blackburn | B5: 20 | C5: 2.8 | D5: 0.9 | E5: 0.7 | F5: 0.55 | G5: 0.4 | H5: 0.1 | I5: 0.1 | J5: 0.4 | K5: 0.45 | L5: 0.25 | M5: 0.35 | N5: 0.15
A6: Luton Town | B6: 19 | C6: 2.68 | D6: 0.84 | E6: 0.68 | F6: 0.58 | G6: 0.32 | H6: 0.21 | I6: 0.05 | J6: 0.42 | K6: 0.47 | L6: 0.26 | M6: 0.32 | N6: 0.11
A7: Nottm Forest | B7: 19 | C7: 2.68 | D7: 0.95 | E7: 0.89 | F7: 0.63 | G7: 0.21 | H7: 0 | I7: 0 | J7: 0.53 | K7: 0.32 | L7: 0.21 | M7: 0.26 | N7: 0.16
A8: Bristol City | B8: 20 | C8: 2.65 | D8: 0.95 | E8: 0.8 | F8: 0.55 | G8: 0.2 | H8: 0.15 | I8: 0 | J8: 0.75 | K8: 0.15 | L8: 0.15 | M8: 0.1 | N8: 0.1
A9: Stoke City | B9: 19 | C9: 2.53 | D9: 0.95 | E9: 0.68 | F9: 0.47 | G9: 0.21 | H9: 0.16 | I9: 0.05 | J9: 0.47 | K9: 0.37 | L9: 0.21 | M9: 0.32 | N9: 0.16
A10: Middlesbrough | B10: 18 | C10: 2.5 | D10: 1 | E10: 0.83 | F10: 0.44 | G10: 0.11 | H10: 0.11 | I10: 0 | J10: 0.56 | K10: 0.39 | L10: 0.06 | M10: 0.39 | N10: 0.06
A11: Peterborough | B11: 18 | C11: 2.5 | D11: 0.83 | E11: 0.67 | F11: 0.56 | G11: 0.28 | H11: 0.17 | I11: 0 | J11: 0.5 | K11: 0.22 | L11: 0.44 | M11: 0.06 | N11: 0.28
A12: Preston | B12: 18 | C12: 2.5 | D12: 0.83 | E12: 0.78 | F12: 0.5 | G12: 0.28 | H12: 0.11 | I12: 0 | J12: 0.72 | K12: 0.28 | L12: 0.17 | M12: 0.11 | N12: 0
A13: Huddersfield | B13: 19 | C13: 2.47 | D13: 0.89 | E13: 0.74 | F13: 0.42 | G13: 0.21 | H13: 0.16 | I13: 0.05 | J13: 0.42 | K13: 0.47 | L13: 0.21 | M13: 0.37 | N13: 0.11
... A25: Millwall | B25: 19 | C25: 1.89 | D25: 0.89 | E25: 0.68 | F25: 0.26 | G25: 0.05 | H25: 0 | I25: 0 | J25: 0.47 | K25: 0.42 | L25: 0.21 | M25: 0.32 | N25: 0.11

Sheet Away Games
A1: Away matches of... | B1: GP | C1: Avg | D1: 0.5+ | E1: 1.5+ | F1: 2.5+ | G1: 3.5+ | H1: 4.5+ | I1: 5.5+ | J1: BTS | K1: CS | L1: FTS | M1: WTN | N1: LTN
A2: Bristol City | B2: 19 | C2: 3.42 | D2: 1 | E2: 0.89 | F2: 0.74 | G2: 0.42 | H2: 0.21 | I2: 0.05 | J2: 0.63 | K2: 0.05 | L2: 0.32 | M2: 0.05 | N2: 0.32
A3: Fulham | B3: 18 | C3: 3.39 | D3: 1 | E3: 0.72 | F3: 0.5 | G3: 0.44 | H3: 0.39 | I3: 0.22 | J3: 0.56 | K3: 0.33 | L3: 0.11 | M3: 0.33 | N3: 0.11
A4: Cardiff City | B4: 18 | C4: 3.17 | D4: 1 | E4: 0.89 | F4: 0.72 | G4: 0.28 | H4: 0.17 | I4: 0.11 | J4: 0.67 | K4: 0.11 | L4: 0.22 | M4: 0.11 | N4: 0.22
A5: Peterborough | B5: 20 | C5: 3.15 | D5: 1 | E5: 0.9 | F5: 0.7 | G5: 0.35 | H5: 0.05 | I5: 0.05 | J5: 0.4 | K5: 0 | L5: 0.6 | M5: 0 | N5: 0.6
A6: QP Rangers | B6: 18 | C6: 3 | D6: 1 | E6: 0.83 | F6: 0.72 | G6: 0.22 | H6: 0.17 | I6: 0.06 | J6: 0.72 | K6: 0.11 | L6: 0.17 | M6: 0.11 | N6: 0.17
A7: Reading | B7: 19 | C7: 2.89 | D7: 0.95 | E7: 0.74 | F7: 0.63 | G7: 0.37 | H7: 0.21 | I7: 0 | J7: 0.53 | K7: 0.11 | L7: 0.42 | M7: 0.05 | N7: 0.37
A8: Birmingham City | B8: 20 | C8: 2.7 | D8: 0.85 | E8: 0.75 | F8: 0.5 | G8: 0.35 | H8: 0.1 | I8: 0.05 | J8: 0.45 | K8: 0.3 | L8: 0.4 | M8: 0.15 | N8: 0.25
A9: Swansea City | B9: 19 | C9: 2.63 | D9: 0.89 | E9: 0.74 | F9: 0.53 | G9: 0.32 | H9: 0.11 | I9: 0.05 | J9: 0.42 | K9: 0.26 | L9: 0.42 | M9: 0.16 | N9: 0.32
A10: Coventry City | B10: 18 | C10: 2.61 | D10: 0.94 | E10: 0.72 | F10: 0.44 | G10: 0.33 | H10: 0.17 | I10: 0 | J10: 0.56 | K10: 0.17 | L10: 0.33 | M10: 0.11 | N10: 0.28
A11: Luton Town | B11: 19 | C11: 2.47 | D11: 0.95 | E11: 0.79 | F11: 0.47 | G11: 0.21 | H11: 0.05 | I11: 0 | J11: 0.42 | K11: 0.37 | L11: 0.26 | M11: 0.32 | N11: 0.21
A12: Blackpool | B12: 17 | C12: 2.47 | D12: 1 | E12: 0.76 | F12: 0.41 | G12: 0.18 | H12: 0.12 | I12: 0 | J12: 0.76 | K12: 0.12 | L12: 0.12 | M12: 0.12 | N12: 0.12
A13: Sheffield Utd | B13: 20 | C13: 2.4 | D13: 0.8 | E13: 0.65 | F13: 0.45 | G13: 0.35 | H13: 0.15 | I13: 0 | J13: 0.45 | K13: 0.35 | L13: 0.4 | M13: 0.15 | N13: 0.2
... A25: Blackburn | B25: 19 | C25: 1.68 | D25: 0.84 | E25: 0.53 | F25: 0.21 | G25: 0.05 | H25: 0.05 | I25: 0 | J25: 0.37 | K25: 0.32 | L25: 0.47 | M25: 0.16 | N25: 0.32

Sheet OGS Home
A1: Home | B1: OGS | C1: Avg. minute | D1: 0-15 | E1: 16-30 | F1: 31-45 | G1: 46-60 | H1: 61-75 | I1: 76-90 | J1: 1st half | K1: 2nd half_2
A2: Barnsley | B2: 8 | C2: 34 | D2: 3 | E2: 1 | F2: 2 | G2: 0 | H2: 2 | I2: 0 | J2: 0.75 | K2: 0.25
A3: Birmingham City | B3: 9 | C3: 36 | D3: 2 | E3: 2 | F3: 2 | G3: 1 | H3: 1 | I3: 1 | J3: 0.67 | K3: 0.33
A4: Blackburn | B4: 12 | C4: 42 | D4: 1 | E4: 4 | F4: 2 | G4: 1 | H4: 2 | I4: 2 | J4: 0.58 | K4: 0.42
A5: Blackpool | B5: 9 | C5: 31 | D5: 2 | E5: 1 | F5: 4 | G5: 2 | H5: 0 | I5: 0 | J5: 0.78 | K5: 0.22
A6: Bournemouth | B6: 12 | C6: 19 | D6: 6 | E6: 4 | F6: 2 | G6: 0 | H6: 0 | I6: 0 | J6: 1 | K6: 0
A7: Bristol City | B7: 12 | C7: 27 | D7: 4 | E7: 2 | F7: 5 | G7: 1 | H7: 0 | I7: 0 | J7: 0.92 | K7: 0.08
A8: Cardiff City | B8: 7 | C8: 46 | D8: 2 | E8: 0 | F8: 1 | G8: 1 | H8: 2 | I8: 1 | J8: 0.43 | K8: 0.57
A9: Coventry City | B9: 6 | C9: 54 | D9: 1 | E9: 1 | F9: 0 | G9: 1 | H9: 2 | I9: 1 | J9: 0.33 | K9: 0.67
A10: Derby County | B10: 13 | C10: 36 | D10: 3 | E10: 3 | F10: 3 | G10: 2 | H10: 1 | I10: 1 | J10: 0.69 | K10: 0.31
A11: Fulham | B11: 13 | C11: 21 | D11: 5 | E11: 7 | F11: 0 | G11: 1 | H11: 0 | I11: 0 | J11: 0.92 | K11: 0.08
A12: Huddersfield | B12: 11 | C12: 35 | D12: 4 | E12: 2 | F12: 2 | G12: 0 | H12: 2 | I12: 1 | J12: 0.73 | K12: 0.27
A13: Hull City | B13: 6 | C13: 24 | D13: 3 | E13: 2 | F13: 0 | G13: 0 | H13: 0 | I13: 1 | J13: 0.83 | K13: 0.17
... A26: League avg. | B26: 9.8 | C26: 34 | D26: 0.286 | E26: 0.239 | F26: 0.167 | G26: 0.107 | H26: 0.124 | I26: 0.077 | J26: 0.692 | K26: 0.308

Sheet OGS Away
A1: Away | B1: OGS | C1: Avg. minute | D1: 0-15 | E1: 16-30 | F1: 31-45 | G1: 46-60 | H1: 61-75 | I1: 76-90 | J1: Column1 | K1: 1st half | L1: 1st half_1 | M1: 2nd half | N1: 2nd half_2
A2: Barnsley | B2: 3 | C2: 23 | D2: 1 | E2: 2 | F2: 0 | G2: 0 | H2: 0 | I2: 0 | K2: 1 | N2: 0
A3: Birmingham City | B3: 6 | C3: 17 | D3: 4 | E3: 1 | F3: 0 | G3: 1 | H3: 0 | I3: 0 | K3: 0.83 | N3: 0.17
A4: Blackburn | B4: 6 | C4: 27 | D4: 2 | E4: 2 | F4: 0 | G4: 2 | H4: 0 | I4: 0 | K4: 0.67 | N4: 0.33
A5: Blackpool | B5: 7 | C5: 42 | D5: 2 | E5: 1 | F5: 1 | G5: 1 | H5: 0 | I5: 2 | K5: 0.57 | N5: 0.43
A6: Bournemouth | B6: 12 | C6: 41 | D6: 1 | E6: 3 | F6: 3 | G6: 4 | H6: 0 | I6: 1 | K6: 0.58 | N6: 0.42
A7: Bristol City | B7: 8 | C7: 33 | D7: 3 | E7: 1 | F7: 3 | G7: 0 | H7: 0 | I7: 1 | K7: 0.88 | N7: 0.12
A8: Cardiff City | B8: 6 | C8: 43 | D8: 1 | E8: 0 | F8: 2 | G8: 1 | H8: 2 | I8: 0 | K8: 0.5 | N8: 0.5
A9: Coventry City | B9: 7 | C9: 25 | D9: 3 | E9: 2 | F9: 2 | G9: 0 | H9: 0 | I9: 0 | K9: 1 | N9: 0
A10: Derby County | B10: 6 | C10: 41 | D10: 0 | E10: 3 | F10: 1 | G10: 1 | H10: 0 | I10: 1 | K10: 0.67 | N10: 0.33
A11: Fulham | B11: 14 | C11: 26 | D11: 7 | E11: 2 | F11: 1 | G11: 3 | H11: 1 | I11: 0 | K11: 0.71 | N11: 0.29
A12: Huddersfield | B12: 10 | C12: 40 | D12: 1 | E12: 3 | F12: 2 | G12: 2 | H12: 2 | I12: 0 | K12: 0.6 | N12: 0.4
A13: Hull City | B13: 7 | C13: 32 | D13: 2 | E13: 2 | F13: 2 | G13: 0 | H13: 0 | I13: 1 | K13: 0.86 | N13: 0.14
... A26: League avg. | B26: 7.5 | C26: 33 | D26: 0.283 | E26: 0.261 | F26: 0.183 | G26: 0.144 | H26: 0.044 | I26: 0.083 | K26: 0.728 | N26: 0.272

Sheet Form Home
A1: Last 8 matches of... | B1: GP | C1: Avg | D1: 0.5+ | E1: 1.5+ | F1: 2.5+ | G1: 3.5+ | H1: 4.5+ | I1: 5.5+ | J1: BTS | K1: CS | L1: FTS | M1: WTN | N1: LTN
A2: Middlesbrough | B2: 8 | C2: 3.25 | D2: 0.88 | E2: 0.88 | F2: 0.75 | G2: 0.38 | H2: 0.38 | I2: 0 | J2: 0.75 | K2: 0.25 | L2: 0.12 | M2: 0.12 | N2: 0
A3: Swansea City | B3: 8 | C3: 3.25 | D3: 0.88 | E3: 0.75 | F3: 0.62 | G3: 0.62 | H3: 0.25 | I3: 0.12 | J3: 0.5 | K3: 0.25 | L3: 0.38 | M3: 0.12 | N3: 0.25
A4: Peterborough | B4: 8 | C4: 3.13 | D4: 1 | E4: 0.88 | F4: 0.75 | G4: 0.38 | H4: 0.12 | I4: 0 | J4: 0.62 | K4: 0 | L4: 0.38 | M4: 0 | N4: 0.38
A5: Bournemouth | B5: 8 | C5: 2.75 | D5: 1 | E5: 1 | F5: 0.62 | G5: 0.12 | H5: 0 | I5: 0 | J5: 0.75 | K5: 0.25 | L5: 0 | M5: 0.25 | N5: 0
A6: Bristol City | B6: 8 | C6: 2.75 | D6: 1 | E6: 0.88 | F6: 0.62 | G6: 0.25 | H6: 0 | I6: 0 | J6: 0.62 | K6: 0.12 | L6: 0.25 | M6: 0.12 | N6: 0.25
A7: QP Rangers | B7: 8 | C7: 2.75 | D7: 1 | E7: 0.88 | F7: 0.62 | G7: 0.25 | H7: 0 | I7: 0 | J7: 0.75 | K7: 0 | L7: 0.25 | M7: 0 | N7: 0.25
A8: Stoke City | B8: 8 | C8: 2.75 | D8: 1 | E8: 0.88 | F8: 0.62 | G8: 0.25 | H8: 0 | I8: 0 | J8: 0.75 | K8: 0.12 | L8: 0.12 | M8: 0.12 | N8: 0.12
A9: Luton Town | B9: 8 | C9: 2.63 | D9: 1 | E9: 0.75 | F9: 0.62 | G9: 0.25 | H9: 0 | I9: 0 | J9: 0.5 | K9: 0.5 | L9: 0 | M9: 0.5 | N9: 0
A10: Nottm Forest | B10: 8 | C10: 2.63 | D10: 0.88 | E10: 0.88 | F10: 0.5 | G10: 0.38 | H10: 0 | I10: 0 | J10: 0.5 | K10: 0.5 | L10: 0.12 | M10: 0.38 | N10: 0
A11: Reading | B11: 8 | C11: 2.63 | D11: 0.88 | E11: 0.62 | F11: 0.5 | G11: 0.38 | H11: 0.25 | I11: 0 | J11: 0.5 | K11: 0.25 | L11: 0.38 | M11: 0.12 | N11: 0.25
A12: Coventry City | B12: 8 | C12: 2.5 | D12: 1 | E12: 0.75 | F12: 0.38 | G12: 0.25 | H12: 0.12 | I12: 0 | J12: 0.62 | K12: 0.12 | L12: 0.25 | M12: 0.12 | N12: 0.25
A13: Huddersfield | B13: 8 | C13: 2.5 | D13: 0.88 | E13: 0.88 | F13: 0.62 | G13: 0.12 | H13: 0 | I13: 0 | J13: 0.38 | K13: 0.38 | L13: 0.38 | M13: 0.25 | N13: 0.25
... A25: Blackburn | B25: 8 | C25: 1.25 | D25: 0.75 | E25: 0.25 | F25: 0.12 | G25: 0.12 | H25: 0 | I25: 0 | J25: 0.12 | K25: 0.38 | L25: 0.75 | M25: 0.12 | N25: 0.5

Sheet Stat Sheet
A1: Trading over 2.5 goals Championship 21/22
D3: GP (Home) | H3: GP (Away) | J3: League Average
A4: Select home team | C4: Fulham | D4: =_xlfn.XLOOKUP(C4,Total_match_goals_stats__at_home[Home matches of...],Total_match_goals_stats__at_home[GP]) -> 19 | E4: Select Away Team | G4: QP Rangers | H4: =_xlfn.XLOOKUP(G4,'Away Games'!A2:A39,'Away Games'!B2:B39) -> 18 | J4: Home | K4: Away
A5: Average minute OGS was scored (Home) | D5: =_xlfn.XLOOKUP(C4,'OGS Home'!A2:A39,'OGS Home'!C2:C39) -> 21 | E5: Average minute OGS was scored (Away) | H5: =_xlfn.XLOOKUP(G4,'OGS Away'!A2:A39,'OGS Away'!C2:C39) -> 22 | J5: ='OGS Home'!C26 -> 34 | K5: ='OGS Away'!C26 -> 33
A6: Percentage of Home games with Over 2.5 goals | D6: =_xlfn.XLOOKUP(C4,'Home Games'!A2:A39,'Home Games'!F2:F39) -> 0.58 | E6: Percentage of Away games with Over 2.5 goals | H6: =_xlfn.XLOOKUP(G4,'Away Games'!A2:A39,'Away Games'!F2:F39) -> 0.72 | J6: =AVERAGE(Total_match_goals_stats__at_home[2.5+]) -> 0.46625 | K6: =AVERAGE(Total_match_goals_stats__away[2.5+]) -> 0.46583333
A7: Average Number of Goals scored at Home per Match | D7: =_xlfn.XLOOKUP(C4,'Home Games'!A2:A39,'Home Games'!C2:C39) -> 3.21 | E7: Average Number of Goals scored when Away per Match | H7: =_xlfn.XLOOKUP(G4,'Away Games'!A2:A39,'Away Games'!C2:C39) -> 3 | J7: =AVERAGE(Total_match_goals_stats__at_home[Avg]) -> 2.47 | K7: =AVERAGE(Total_match_goals_stats__away[Avg]) -> 2.4758333
A8: Percentage of games with Over 2.5 goals in the last 8 Games | D8: =_xlfn.XLOOKUP(C4,'Form Home'!A2:A39,'Form Home'!F2:F39) -> 0.38 | E8: Percentage of games with Over 2.5 goals in the last 8 Games | H8: =_xlfn.XLOOKUP(G4,'Form Home'!A2:A39,'Form Home'!F2:F39) -> 0.62 | J8: =AVERAGE(Total_match_goals_stats__last_8_matches[2.5+]) -> 0.4525 | K8: =J8 -> 0.4525
A9: Percentage of games where both teams scored in the last 8 Games | D9: =_xlfn.XLOOKUP(C4,'Form Home'!A2:A39,'Form Home'!J2:J39) -> 0.5 | E9: Percentage of games where both teams scored in the last 8 Games | H9: =_xlfn.XLOOKUP(G4,'Form Home'!A2:A39,'Form Home'!J2:J39) -> 0.75 | J9: =AVERAGE(Total_match_goals_stats__last_8_matches[BTS]) -> 0.48458333 | K9: =J9 -> 0.48458333
